BEGIN:VCALENDAR
VERSION:2.0
PRODID:-//jEvents 2.0 for Joomla//EN
CALSCALE:GREGORIAN
METHOD:PUBLISH
BEGIN:VTIMEZONE
TZID:Europe/Lisbon
END:VTIMEZONE
BEGIN:VEVENT
UID:7543c98a08340ef96a67567749e9850f
CATEGORIES:Santos
SUMMARY:São João de Nicomédia
DESCRIPTION;ENCODING=QUOTED-PRINTABLE:
DTSTAMP:20260425T213558Z
DTSTART;TZID=Europe/Lisbon;VALUE=DATE:20330907
DTEND;TZID=Europe/Lisbon;VALUE=DATE:20330908
SEQUENCE:0
TRANSP:OPAQUE
END:VEVENT
END:VCALENDAR