BEGIN:VCALENDAR
VERSION:2.0
PRODID:-//jEvents 2.0 for Joomla//EN
CALSCALE:GREGORIAN
METHOD:PUBLISH
BEGIN:VEVENT
UID:ac21f9623719bdc48f66c09e48efdbad
CATEGORIES:Santos
SUMMARY:Santa Regina
DESCRIPTION;ENCODING=QUOTED-PRINTABLE:
DTSTAMP:20260426T013428Z
DTSTART;TZID=Europe/Lisbon;VALUE=DATE:20530907
DTEND;TZID=Europe/Lisbon;VALUE=DATE:20530908
SEQUENCE:0
TRANSP:OPAQUE
END:VEVENT
END:VCALENDAR