BEGIN:VCALENDAR
VERSION:2.0
PRODID:-//jEvents 2.0 for Joomla//EN
CALSCALE:GREGORIAN
METHOD:PUBLISH
BEGIN:VEVENT
UID:4bd5e3be98caff3b796a8dafa6cbf3e7
CATEGORIES:Santos
SUMMARY:São Zacarias
DESCRIPTION;ENCODING=QUOTED-PRINTABLE:
DTSTAMP:20260425T122407Z
DTSTART;TZID=Europe/Lisbon;VALUE=DATE:20410905
DTEND;TZID=Europe/Lisbon;VALUE=DATE:20410906
SEQUENCE:0
TRANSP:OPAQUE
END:VEVENT
END:VCALENDAR