BEGIN:VCALENDAR
VERSION:2.0
PRODID:-//jEvents 2.0 for Joomla//EN
CALSCALE:GREGORIAN
METHOD:PUBLISH
BEGIN:VTIMEZONE
TZID:Europe/Lisbon
END:VTIMEZONE
BEGIN:VEVENT
UID:6921ba17c64cc67b2af2944d2521974f
CATEGORIES:Santos
SUMMARY:Birino
DESCRIPTION;ENCODING=QUOTED-PRINTABLE:
DTSTAMP:20260420T090909Z
DTSTART;TZID=Europe/Lisbon;VALUE=DATE:20280904
DTEND;TZID=Europe/Lisbon;VALUE=DATE:20280905
SEQUENCE:0
TRANSP:OPAQUE
END:VEVENT
END:VCALENDAR