BEGIN:VCALENDAR
VERSION:2.0
PRODID:-//jEvents 2.0 for Joomla//EN
CALSCALE:GREGORIAN
METHOD:PUBLISH
BEGIN:VTIMEZONE
TZID:Europe/Lisbon
END:VTIMEZONE
BEGIN:VEVENT
UID:f2781e70d199ed54b27dcf811c35addc
CATEGORIES:Santos
SUMMARY:Albert Schweitzer
DESCRIPTION;ENCODING=QUOTED-PRINTABLE:
DTSTAMP:20260425T142623Z
DTSTART;TZID=Europe/Lisbon;VALUE=DATE:20380904
DTEND;TZID=Europe/Lisbon;VALUE=DATE:20380905
SEQUENCE:0
TRANSP:OPAQUE
END:VEVENT
END:VCALENDAR