BEGIN:VCALENDAR
VERSION:2.0
PRODID:-//jEvents 2.0 for Joomla//EN
CALSCALE:GREGORIAN
METHOD:PUBLISH
BEGIN:VTIMEZONE
TZID:Europe/Lisbon
END:VTIMEZONE
BEGIN:VEVENT
UID:ecae983c658be4b7c99d3e346726dfe9
CATEGORIES:Santos
SUMMARY:N. Srª da Consolação
DESCRIPTION;ENCODING=QUOTED-PRINTABLE:
DTSTAMP:20260420T034124Z
DTSTART;TZID=Europe/Lisbon;VALUE=DATE:20260904
DTEND;TZID=Europe/Lisbon;VALUE=DATE:20260905
SEQUENCE:0
TRANSP:OPAQUE
END:VEVENT
END:VCALENDAR