BEGIN:VCALENDAR
VERSION:2.0
PRODID:-//jEvents 2.0 for Joomla//EN
CALSCALE:GREGORIAN
METHOD:PUBLISH
BEGIN:VEVENT
UID:140c5994a6047db3933e7caf0d6a79af
CATEGORIES:Santos
SUMMARY:Mártires de setembro
DESCRIPTION;ENCODING=QUOTED-PRINTABLE:
DTSTAMP:20260425T111817Z
DTSTART;TZID=Europe/Lisbon;VALUE=DATE:20400902
DTEND;TZID=Europe/Lisbon;VALUE=DATE:20400903
SEQUENCE:0
TRANSP:OPAQUE
END:VEVENT
END:VCALENDAR