BEGIN:VCALENDAR
VERSION:2.0
PRODID:-//jEvents 2.0 for Joomla//EN
CALSCALE:GREGORIAN
METHOD:PUBLISH
BEGIN:VTIMEZONE
TZID:Europe/Lisbon
BEGIN:STANDARD
DTSTART:20200104T000000
RDATE:20200329T020000
TZOFFSETFROM:+0100
TZOFFSETTO:+0000
TZNAME:Europe/Lisbon WET
END:STANDARD
BEGIN:STANDARD
DTSTART:20201025T010000
RDATE:20210328T020000
TZOFFSETFROM:+0100
TZOFFSETTO:+0000
TZNAME:Europe/Lisbon WET
END:STANDARD
BEGIN:DAYLIGHT
DTSTART:20200329T020000
RDATE:20201025T010000
TZOFFSETFROM:+0000
TZOFFSETTO:+0100
TZNAME:Europe/Lisbon WEST
END:DAYLIGHT
END:VTIMEZONE
BEGIN:VEVENT
UID:34d6f80fbdcad116b9881092a251ec51
CATEGORIES:Santos
SUMMARY:Mártires da Papua Nova Guiné
DESCRIPTION;ENCODING=QUOTED-PRINTABLE:
DTSTAMP:20260420T061951Z
DTSTART;TZID=Europe/Lisbon;VALUE=DATE:20210104
DTEND;TZID=Europe/Lisbon;VALUE=DATE:20210105
SEQUENCE:0
TRANSP:OPAQUE
END:VEVENT
END:VCALENDAR