BEGIN:VCALENDAR
VERSION:2.0
PRODID:-//jEvents 2.0 for Joomla//EN
CALSCALE:GREGORIAN
METHOD:PUBLISH
BEGIN:VTIMEZONE
TZID:Europe/Lisbon
END:VTIMEZONE
BEGIN:VEVENT
UID:42478f83256173293bbf2b2d0fa02f78
CATEGORIES:Santos
SUMMARY:Santa Doroteia
DESCRIPTION;ENCODING=QUOTED-PRINTABLE:
DTSTAMP:20260425T213758Z
DTSTART;TZID=Europe/Lisbon;VALUE=DATE:20330902
DTEND;TZID=Europe/Lisbon;VALUE=DATE:20330903
SEQUENCE:0
TRANSP:OPAQUE
END:VEVENT
END:VCALENDAR