BEGIN:VCALENDAR
VERSION:2.0
PRODID:-//jEvents 2.0 for Joomla//EN
CALSCALE:GREGORIAN
METHOD:PUBLISH
BEGIN:VTIMEZONE
TZID:Europe/Lisbon
END:VTIMEZONE
BEGIN:VEVENT
UID:4fe8eefed63d83bab8b77a09ad0d353d
CATEGORIES:Santos
SUMMARY:Beato Pedro Renato Rogue
DESCRIPTION;ENCODING=QUOTED-PRINTABLE:
DTSTAMP:20260425T194116Z
DTSTART;TZID=Europe/Lisbon;VALUE=DATE:20340902
DTEND;TZID=Europe/Lisbon;VALUE=DATE:20340903
SEQUENCE:0
TRANSP:OPAQUE
END:VEVENT
END:VCALENDAR