BEGIN:VCALENDAR
VERSION:2.0
PRODID:-//jEvents 2.0 for Joomla//EN
CALSCALE:GREGORIAN
METHOD:PUBLISH
BEGIN:VTIMEZONE
TZID:Europe/Lisbon
END:VTIMEZONE
BEGIN:VEVENT
UID:deb809424fca34bbaf67058568946062
CATEGORIES:Santos
SUMMARY:São Lourenço Justiniano
DESCRIPTION;ENCODING=QUOTED-PRINTABLE:\n\n\nSão Lourenço Justiniano foi admirado pela sua piedade humilde, traço 
 que parece ter herdado da sua mãe. Abdicou de uma carreira secular para aos
  19 anos, se juntar à congregação dos cónegos regulares de S. Jorge. \nSão 
 Lourenço Justiniano vestia-se de serapilheira e mendigava por comida, apesa
 r de os Justinianos serem uma família nobre importante de Veneza. Em 1406, 
 São Lourenço Justiniano foi ordenado, numa altura em que a congregação (cón
 egos regulares de S. Jorge), se transformava, passando a ter um papel ativo
  na comunidade, e chegou a superior, reorganizando a constituição da mesma.
 \nEm 1433, São Lourenço Justiniano foi elevado a bispo de Castello, parte d
 a diocese de Veneza.\n\nNascimento: ano 1381 d.C., em Veneza, Itália\nMorte
 : ano 1456 d.C., em Veneza, Itália\n\n
DTSTAMP:20260421T033732Z
DTSTART;TZID=Europe/Lisbon;VALUE=DATE:20240108
DTEND;TZID=Europe/Lisbon;VALUE=DATE:20240109
SEQUENCE:0
TRANSP:OPAQUE
END:VEVENT
END:VCALENDAR