BEGIN:VCALENDAR
VERSION:2.0
PRODID:-//jEvents 2.0 for Joomla//EN
CALSCALE:GREGORIAN
METHOD:PUBLISH
BEGIN:VTIMEZONE
TZID:Europe/Lisbon
END:VTIMEZONE
BEGIN:VEVENT
UID:41f821318a851431339349eb225ebc00
CATEGORIES:Santos
SUMMARY:Beato João Henrique Gruyer
DESCRIPTION;ENCODING=QUOTED-PRINTABLE:
DTSTAMP:20260425T175629Z
DTSTART;TZID=Europe/Lisbon;VALUE=DATE:20360902
DTEND;TZID=Europe/Lisbon;VALUE=DATE:20360903
SEQUENCE:0
TRANSP:OPAQUE
END:VEVENT
END:VCALENDAR