BEGIN:VCALENDAR
VERSION:2.0
PRODID:-//jEvents 2.0 for Joomla//EN
CALSCALE:GREGORIAN
METHOD:PUBLISH
BEGIN:VTIMEZONE
TZID:Europe/Lisbon
BEGIN:STANDARD
DTSTART:20160201T000000
RDATE:20160327T020000
TZOFFSETFROM:+0100
TZOFFSETTO:+0000
TZNAME:Europe/Lisbon WET
END:STANDARD
BEGIN:STANDARD
DTSTART:20161030T010000
RDATE:20170326T020000
TZOFFSETFROM:+0100
TZOFFSETTO:+0000
TZNAME:Europe/Lisbon WET
END:STANDARD
BEGIN:STANDARD
DTSTART:20171029T010000
RDATE:20180325T020000
TZOFFSETFROM:+0100
TZOFFSETTO:+0000
TZNAME:Europe/Lisbon WET
END:STANDARD
BEGIN:STANDARD
DTSTART:20181028T010000
RDATE:20190331T020000
TZOFFSETFROM:+0100
TZOFFSETTO:+0000
TZNAME:Europe/Lisbon WET
END:STANDARD
BEGIN:STANDARD
DTSTART:20191027T010000
RDATE:20200329T020000
TZOFFSETFROM:+0100
TZOFFSETTO:+0000
TZNAME:Europe/Lisbon WET
END:STANDARD
BEGIN:STANDARD
DTSTART:20201025T010000
RDATE:20210328T020000
TZOFFSETFROM:+0100
TZOFFSETTO:+0000
TZNAME:Europe/Lisbon WET
END:STANDARD
BEGIN:DAYLIGHT
DTSTART:20160327T020000
RDATE:20161030T010000
TZOFFSETFROM:+0000
TZOFFSETTO:+0100
TZNAME:Europe/Lisbon WEST
END:DAYLIGHT
BEGIN:DAYLIGHT
DTSTART:20170326T020000
RDATE:20171029T010000
TZOFFSETFROM:+0000
TZOFFSETTO:+0100
TZNAME:Europe/Lisbon WEST
END:DAYLIGHT
BEGIN:DAYLIGHT
DTSTART:20180325T020000
RDATE:20181028T010000
TZOFFSETFROM:+0000
TZOFFSETTO:+0100
TZNAME:Europe/Lisbon WEST
END:DAYLIGHT
BEGIN:DAYLIGHT
DTSTART:20190331T020000
RDATE:20191027T010000
TZOFFSETFROM:+0000
TZOFFSETTO:+0100
TZNAME:Europe/Lisbon WEST
END:DAYLIGHT
BEGIN:DAYLIGHT
DTSTART:20200329T020000
RDATE:20201025T010000
TZOFFSETFROM:+0000
TZOFFSETTO:+0100
TZNAME:Europe/Lisbon WEST
END:DAYLIGHT
END:VTIMEZONE
BEGIN:VEVENT
UID:b5c4019c9ea7d879b1760e0bc9078fdd
CATEGORIES:Santos
SUMMARY:Brigída de Kildare
DESCRIPTION;ENCODING=QUOTED-PRINTABLE:Santa Brígida de Kildare também é conhecida como Santa Brígida da Irlanda o
 u Naomh Bhríde. Nasceu por volta do ano 450 em Faughart (Irlanda) e faleceu
  no ano 525 em Kildare (Irlanda). Era filha de Dubhthach, um pagão de Leins
 ter, e Brocca, uma cristã de Pictos que havia sido batizada por São Patríci
 o.\nSanta Brígida de Kildare recebeu o nome de uma das mais poderosas deusa
 s da religião pagã que o seu pai praticava; Brígida era a deusa do fogo, cu
 jas manifestações foram música, artesanato, e poesia, que os irlandeses con
 sideravam a chama do conhecimento.\nNo ano 468, Santa Brígida de Kildare co
 nverteu-se ao cristianismo, mas foi inspirada pela pregação de São Patrício
  desde a mais tenra idade. Apesar da oposição do seu pai, Santa Brígida de 
 Kildare estava determinada a entrar na vida religiosa.\nSanta Brígida de Ki
 ldare tinha um coração tão generoso que nunca recusava nada a um pobre, que
  vinha para a porta do pai. A caridade da santa irritava o seu pai: que pen
 sava que ela estava a ser demasiadamente generosa para os pobres e necessit
 ados, quando Santa Brígida distribuía o seu leite e farinha para todos.\nCe
 rto dia, a santa deu a sua joia a um leproso, então o pai Dubhthach percebe
 u que talvez, fosse o mais adequado para sua filha a vida de uma freira. Sa
 nta Brígida finalmente viu o seu desejo de entrar num convento realizado. S
 anta Brígida recebeu o véu de Santo Mel e professou votos a dedicar sua vid
 a a Cristo.\nPor volta do ano 470 Santa Brígida fundou a Abadia Kildare, um
 a duplo mosteiro, com freiras e monges. A santa era famosa pelo seu senso c
 omum e acima de tudo pela sua santidade: na sua vida, ela era considerada c
 omo uma santa. A Abadia de Kildare tornou-se um dos mais prestigiados moste
 iros da Irlanda, famoso em toda a Europa cristã.\nSanta Brígida morreu em K
 ildare no ano 525 e foi enterrada num túmulo na igreja de sua abadia. Depoi
 s de algum tempo ela foi transportada para Downpatrick com os restos mortai
 s dos outros dois santos padroeiros da Irlanda, S. Patricio (http://www.par
 oquia-almancil.pt/utilidades/vida-dos-santos/icalrepeat.detail/2018/03/17/4
 7774/-/s-patr%C3%ADcio.html) e S. Columbano (http://www.paroquia-almancil.p
 t/utilidades/vida-dos-santos/icalrepeat.detail/2017/11/24/40058/-/s-columba
 no.html) . O crânio de Santa Brígida de Kildare foi extraído e levado até à
  Igreja de São João Batista em Lisboa (Portugal) onde permanece até hoje.\n
 Curiosidade: Uma lenda conta que Santa Brígida fez uma cruz e colocou-a no 
 chão ao lado de um homem à morrer, a fim de convertê-lo. É interessante not
 ar que essa lenda não aparece em nenhuma das fontes mais antigas e até hoje
  sua origem continua perdida na tradição oral. Contudo a cruz continua send
 o costume em muitas casas, na Irlanda em honra da santa.\n
DTSTAMP:20260420T005322Z
DTSTART;TZID=Europe/Lisbon;VALUE=DATE:20170201
DTEND;TZID=Europe/Lisbon;VALUE=DATE:20170202
SEQUENCE:0
TRANSP:OPAQUE
END:VEVENT
END:VCALENDAR