BEGIN:VCALENDAR
VERSION:2.0
PRODID:-//jEvents 2.0 for Joomla//EN
CALSCALE:GREGORIAN
METHOD:PUBLISH
BEGIN:VTIMEZONE
TZID:Europe/Lisbon
END:VTIMEZONE
BEGIN:VEVENT
UID:20eed142ba4101fde5554b8f43bbcf2a
CATEGORIES:Santos
SUMMARY:Santa Mariana de Quito
DESCRIPTION;ENCODING=QUOTED-PRINTABLE:
DTSTAMP:20260423T101613Z
DTSTART;TZID=Europe/Lisbon;VALUE=DATE:20230526
DTEND;TZID=Europe/Lisbon;VALUE=DATE:20230527
SEQUENCE:0
TRANSP:OPAQUE
END:VEVENT
END:VCALENDAR