BEGIN:VCALENDAR
VERSION:2.0
PRODID:-//jEvents 2.0 for Joomla//EN
CALSCALE:GREGORIAN
METHOD:PUBLISH
BEGIN:VTIMEZONE
TZID:Europe/Lisbon
END:VTIMEZONE
BEGIN:VEVENT
UID:33477b652e82ee44a608c821d1af5d4c
CATEGORIES:Santos
SUMMARY:São Timóteo
DESCRIPTION;ENCODING=QUOTED-PRINTABLE:São Timóteo nasceu em Listra, Ásia e morreu no ano 97 d.C. Era o "braço dir
 eito" do apóstolo Paulo, sendo considerado, ao lado do seu mestre, como o p
 rimeiro e corajoso pregador do cristianismo. Muitas vezes, evangelizaram ju
 ntos, porém por diversas vezes, São Paulo enviou-o como seu representante, 
 enquanto ele próprio abria novos caminhos.\nO pai de São Timóteo era grego 
 e pagão, enquanto a sua mãe se chamava Eunice e era judia. São Timóteo foi 
 educado dentro do judaísmo.\nAssim, quando São Paulo esteve em Listra, São 
 Timóteo, a sua mãe a sua avó converteram-se. \nA partir desse momento, São 
 Timóteo decidiu que seguiria São Paulo e nunca mais se afastou deste.\nCola
 borador fiel de São Paulo, São Timóteo acompanhou-o nas viagens a Filipos, 
 Tessalónica, Atenas, Corinto, Éfeso e Roma. São Timóteo, só não acompanhava
  o seu mestre, quando ele o enviava para algumas missões nas igrejas que ti
 nham fundado, com o objetivo de corrigir erros e manter a paz, como fez em 
 Tessalônica, com o seu aspecto de rapaz frágil.\nPorém &ldquo;que ninguém d
 espreze a tua jovem idade&rdquo;, lhe escreveu Paulo na primeira das duas c
 artas pessoais. E aos cristãos de Corinto o apresenta assim: &ldquo;Estou l
 hes mandando Timóteo, meu filho dileto e fiel no Senhor: manterá em suas me
 mórias os caminhos que lhes ensinei&rdquo;. \nNa Palestina, o apóstolo Paul
 o ficou preso durante dois anos e tudo indica que São Timóteo foi seu compa
 nheiro nessa situação também. Mas ao final deste período, ele foi colocado 
 em liberdade, enquanto Paulo era levado para Roma. Quando Paulo retornou, p
 or volta do ano 66, São Timóteo era o bispo de Éfeso e, com este cargo, foi
  nomeado pelo apóstolo para liderar a Igreja da Ásia Menor.\nDurante uma gr
 ande festa onde era adorada a deusa Diana, São Timóteo colocou-se no centro
  dos pagãos e, tentando convertê-los, iniciou um severo discurso criticando
  e repreendendo o culto herege. Como resposta, os pagãos mataram-no a pedra
 das e pauladas.\n\n\n \n
DTSTAMP:20260421T005216Z
DTSTART;TZID=Europe/Lisbon;VALUE=DATE:20260126
DTEND;TZID=Europe/Lisbon;VALUE=DATE:20260127
SEQUENCE:0
TRANSP:OPAQUE
END:VEVENT
END:VCALENDAR