BEGIN:VCALENDAR
VERSION:2.0
PRODID:-//jEvents 2.0 for Joomla//EN
CALSCALE:GREGORIAN
METHOD:PUBLISH
BEGIN:VTIMEZONE
TZID:Europe/Lisbon
END:VTIMEZONE
BEGIN:VEVENT
UID:f8827912d1ee379d4ebd33bf1a710f95
CATEGORIES:Santos
SUMMARY:Alcuíno
DESCRIPTION;ENCODING=QUOTED-PRINTABLE:
DTSTAMP:20260423T113420Z
DTSTART;TZID=Europe/Lisbon;VALUE=DATE:20230520
DTEND;TZID=Europe/Lisbon;VALUE=DATE:20230521
SEQUENCE:0
TRANSP:OPAQUE
END:VEVENT
END:VCALENDAR