BEGIN:VCALENDAR
VERSION:2.0
PRODID:-//jEvents 2.0 for Joomla//EN
CALSCALE:GREGORIAN
METHOD:PUBLISH
BEGIN:VTIMEZONE
TZID:Europe/Lisbon
BEGIN:STANDARD
DTSTART:20181028T010000
RDATE:20190331T020000
TZOFFSETFROM:+0100
TZOFFSETTO:+0000
TZNAME:Europe/Lisbon WET
END:STANDARD
BEGIN:STANDARD
DTSTART:20191027T010000
RDATE:20200329T020000
TZOFFSETFROM:+0100
TZOFFSETTO:+0000
TZNAME:Europe/Lisbon WET
END:STANDARD
BEGIN:STANDARD
DTSTART:20201025T010000
RDATE:20210328T020000
TZOFFSETFROM:+0100
TZOFFSETTO:+0000
TZNAME:Europe/Lisbon WET
END:STANDARD
BEGIN:DAYLIGHT
DTSTART:20180515T000000
RDATE:20181028T010000
TZOFFSETFROM:+0000
TZOFFSETTO:+0100
TZNAME:Europe/Lisbon WEST
END:DAYLIGHT
BEGIN:DAYLIGHT
DTSTART:20190331T020000
RDATE:20191027T010000
TZOFFSETFROM:+0000
TZOFFSETTO:+0100
TZNAME:Europe/Lisbon WEST
END:DAYLIGHT
BEGIN:DAYLIGHT
DTSTART:20200329T020000
RDATE:20201025T010000
TZOFFSETFROM:+0000
TZOFFSETTO:+0100
TZNAME:Europe/Lisbon WEST
END:DAYLIGHT
END:VTIMEZONE
BEGIN:VEVENT
UID:06cce86ba951dc63d1576a7c32c4205a
CATEGORIES:Santos
SUMMARY:Santa Gema Galgani
DESCRIPTION;ENCODING=QUOTED-PRINTABLE:Santa Gema Galgani nasceu a 12 de março de 1878 em Camigliano (Lucca, Itáli
 a) e faleceu a 11 de abril de 1903 em Lucca (Itália). Foi batizada como Gem
 a Maria Humberta Pia Galgani e era filha de Erico Galgani, um próspero quím
 ico e descendente do Beato João Leonardi. A mãe de Gema era também de orige
 m nobre. Os Galgani eram uma família católica tradicional que foi abençoada
  com oito filhos. \nSanta Gema Galgani foi a quinta a nascer e a primeira m
 enina da família. Ainda criança Santa Gema Galgani, desenvolveu uma atração
  irresistível pela oração. Esse carinho pela oração lhe veio de sua piedosa
  mãe, que lhe ensinou as verdades da Fé da Igreja Católica. \nCerto dia, qu
 ando Santa Gema Galgani tinha tendo apenas quatro anos de idade, ajoelhou-s
 e diante de um quadro do Coração de Maria na casa da avó paterna. Com as mã
 ozinhas postas, ficou absorta rezando. A avó, passando pelo aposento, ficou
  encantada com o espetáculo, e correu a chamar o seu filho para que também 
 o visse. Este, depois de ter contemplado detidamente aquela oração, interro
 mpeu a pequena santa:\n &mdash; Gema, o que está fazendo? Perguntou-lhe.\n 
 Como quem sai de um êxtase, a menina olhou-o e respondeu com a maior seried
 ade:\n&mdash; Estou rezando a Ave-Maria. Saia, que estou em oração.\nCom ci
 nco anos, Santa Gema Galgani lia o Ofício de Nossa Senhora e o Ofício dos D
 efuntos no Breviário com tanta facilidade e rapidez quanto um adulto.\nA mã
 e de Santa Gema Galgani morreu quando este tinha sete anos. Como fizeram ou
 tros santos, Santa Gema Galgani pediu à Santíssima Virgem que a substituíss
 e. A partir daí, sua devoção à Mãe de Deus tornou-se mais terna. Ela a invo
 cava sempre com o carinhoso apelativo de &ldquo;mamãe&rdquo;.\nAlgumas font
 es referem que após a morte da mãe, Santa Gema Galgani assumiu os trabalhos
  domésticos, outras que nos parecem mais fidedignas afirmam que com a morte
  da mãe, Santa Gema Galgani foi enviada pelo pai para um semi-internato cat
 ólico em Lucca, dirigido pelas Irmãs de Santa Zita. \nNo dia 20 de junho de
  1887 e quando Santa Gema Galgani tinha nove anos fez a primeira comunhão (
 o que era mais cedo do que de costume). Era o dia da festa do Sagrado Coraç
 ão de Jesus.\nO pai de Santa Gema Galgani morre no ano de 1897 e como conse
 quência de sua extrema generosidade, da falta de escrúpulos dos seus interl
 ocutores nos negócios e problemas com credores, os filhos foram deixados se
 m nada e não tinham sequer meios de sobreviver. \nEntão Santa Gema Galgani 
 entrou para a casa de Mateo Giannini como serviçal doméstica. Ela desejava 
 entrar para o convento das passionistas em Lucca, no qual o seu conselheiro
  espiritual era o diretor, mas foi rejeitada devido sua fragilidade física,
  saúde precária. Gema desenvolveu uma curvatura na espinha, uma meningite d
 eixou-a temporariamente surda, grandes abscessos formaram-se na sua cabeça,
  os seus cabelos caíram e teve paralisia nos membros. Um médico foi chamado
  e tentou vários remédios, mas de nada adiantou. \nSanta Gema Galgani era d
 evota de São Gabriel de Nossa Senhora das Dores (http://www.paroquia-almanc
 il.pt/utilidades/vida-dos-santos/icalrepeat.detail/2018/02/27/56958/-/s%C3%
 A3o-gabriel-de-nossa-senhora-das-dores.html) e enquanto estava acamada leu 
 a história da sua vida. \nSanta Gema Galgani, agora com 20 anos, estava apa
 rentemente em seu leito de morte. Foi-lhe sugerida uma novena como a única 
 chance de cura. Dia 23 de fevereiro de 1899, à meia-noite, ela ouviu o choc
 alhar de um rosário e deu-se conta de que São Gabriel de Nossa Senhora das 
 Dores estava com ela e ter-lhe-á dito:\n&ldquo;Queres ficar curada? Reza co
 m fé toda noite ao Sagrado Coração de Jesus. Eu virei a ti até a novena ter
 minar, e rezarei contigo a este Sacratíssimo Coração&rdquo;.\nNa primeira s
 exta-feira de março a novena terminava. A graça tinha sido concedida e Sant
 a Gema Galgani estava curada. \nA 8 de junho de 1899, depois de receber a c
 omunhão, Nosso Senhor deu a conhecer à Sua serva que Ele lhe daria uma graç
 a muito grande. Santa Gema Galgani voltou para casa e rezou. Pouco depois e
 ntrou em êxtase e sentiu um grande remorso por seus pecados. A Mãe Santíssi
 ma, de quem Santa Gema era extremamente devota, apareceu-lhe e logo de segu
 ida apareceu também Jesus e Santa Gema Galgani recebeu os estigmas de Crist
 o (marcas físicas no corpo mas com origem espiritual).\nMuitas pessoas, inc
 luindo respeitosos membros da Igreja, testemunharam este milagre dos estigm
 as, que se repetiu praticamente até o fim da vida de Santa Gema Galgani.\nS
 anta Gema Galgani faleceu a 11 de abril de 1803.\nFoi canonizada a 2 de mar
 ço de 1940.\nSanta Gema Galgani rogai por nós!\n
DTSTAMP:20260420T204842Z
DTSTART;TZID=Europe/Lisbon;VALUE=DATE:20190516
DTEND;TZID=Europe/Lisbon;VALUE=DATE:20190517
SEQUENCE:0
TRANSP:OPAQUE
END:VEVENT
END:VCALENDAR