BEGIN:VCALENDAR
VERSION:2.0
PRODID:-//jEvents 2.0 for Joomla//EN
CALSCALE:GREGORIAN
METHOD:PUBLISH
BEGIN:VTIMEZONE
TZID:Europe/Lisbon
BEGIN:STANDARD
DTSTART:20171029T010000
RDATE:20180325T020000
TZOFFSETFROM:+0100
TZOFFSETTO:+0000
TZNAME:Europe/Lisbon WET
END:STANDARD
BEGIN:STANDARD
DTSTART:20181028T010000
RDATE:20190331T020000
TZOFFSETFROM:+0100
TZOFFSETTO:+0000
TZNAME:Europe/Lisbon WET
END:STANDARD
BEGIN:STANDARD
DTSTART:20191027T010000
RDATE:20200329T020000
TZOFFSETFROM:+0100
TZOFFSETTO:+0000
TZNAME:Europe/Lisbon WET
END:STANDARD
BEGIN:STANDARD
DTSTART:20201025T010000
RDATE:20210328T020000
TZOFFSETFROM:+0100
TZOFFSETTO:+0000
TZNAME:Europe/Lisbon WET
END:STANDARD
BEGIN:DAYLIGHT
DTSTART:20170514T000000
RDATE:20171029T010000
TZOFFSETFROM:+0000
TZOFFSETTO:+0100
TZNAME:Europe/Lisbon WEST
END:DAYLIGHT
BEGIN:DAYLIGHT
DTSTART:20180325T020000
RDATE:20181028T010000
TZOFFSETFROM:+0000
TZOFFSETTO:+0100
TZNAME:Europe/Lisbon WEST
END:DAYLIGHT
BEGIN:DAYLIGHT
DTSTART:20190331T020000
RDATE:20191027T010000
TZOFFSETFROM:+0000
TZOFFSETTO:+0100
TZNAME:Europe/Lisbon WEST
END:DAYLIGHT
BEGIN:DAYLIGHT
DTSTART:20200329T020000
RDATE:20201025T010000
TZOFFSETFROM:+0000
TZOFFSETTO:+0100
TZNAME:Europe/Lisbon WEST
END:DAYLIGHT
END:VTIMEZONE
BEGIN:VEVENT
UID:4497d204c72b231836a05b40ebc5f8b3
CATEGORIES:Santos
SUMMARY:Santa Dymphna
DESCRIPTION;ENCODING=QUOTED-PRINTABLE:\n\nSanta Dymphna também é conhecida como Santa Dimpna ou Santa Dinfna. Ter
 á nascido na Irlanda e morreu no século VII em Ghell (Bélgica).\n\n\nSanta 
 Dymphna era filha de um rei irlandês pagão e de sua esposa cristã. Santa Dy
 mphna tornou-se cristã e foi batizada secretamente (ou com autorização do s
 eu pai, as fontes não são explicitas).  \nQuando Santa Dymphna se encontrav
 a na adolescência ficou órfã de mãe e o seu pai desejava casar-se com Santa
  Dymphna devido à sua beleza.\nSanta Dymphna fugiu com Gereberno, um sacerd
 ote amigo da família para a aldeia de Gheel na Bélgica. Quando chegaram a G
 heel, Santa Dymphna, o sacerdote e dois amigos que tinham fugido com eles r
 efugiaram-se junto a uma capela dedicada a São Martinho, ao lado da qual le
 vantaram a sua morada.\nO pai de Santa Dymphna enviou os seus mensageiros à
  procura da filha e quando estes a encontraram dirigiu-se até lá para renov
 ar a sua oferta de casar com a filha. Como Santa Dymphna não aceitou a prop
 osta do pai, este mandou que os seus servos matassem o sacerdote enquanto e
 le degolou a cabeça da sua filha.\n \nSanta Dymphna é padroeira dos psicólo
 gos e psiquiatras, dos doentes mentais e das vítimas de incesto.\n \nSanta 
 Dymphna rogai por nós!\n
DTSTAMP:20260422T122817Z
DTSTART;TZID=Europe/Lisbon;VALUE=DATE:20180515
DTEND;TZID=Europe/Lisbon;VALUE=DATE:20180516
SEQUENCE:0
TRANSP:OPAQUE
END:VEVENT
END:VCALENDAR