BEGIN:VCALENDAR
VERSION:2.0
PRODID:-//jEvents 2.0 for Joomla//EN
CALSCALE:GREGORIAN
METHOD:PUBLISH
BEGIN:VEVENT
UID:67189cf86f3acebad742ab751b3c5e3a
CATEGORIES:Santos
SUMMARY:São Raimundo de Penhaforte
DESCRIPTION;ENCODING=QUOTED-PRINTABLE:\n\n\n\n\nSão Raimundo de Penhaforte, nasceu no seio de uma família nobre n
 a Catalunha, que na altura fazia parte do Reino de Aragão, e fez doutoramen
 to em direito canónico e civil na Universidade de Bolonha.\n\n\nDepois, São
  Raimundo de Penhaforte, foi para Barcelona, onde se juntou à Ordem Dominic
 ana para pregar e estudar. Foi chamado a Roma em 1230 pelo Papa Gregório IX
  e deu início à tarefa de coligir decretos papais e conciliares numa obra p
 adronizada de referência para os advogados canónicos. \n\n\nEm 1236, São Ra
 imundo de Penhaforte, regressou à Catalunha, tornando-se superior dos domin
 icanos (1238-1240). \n\n\nSão Raimundo de Penhaforte, parece estar envolvid
 o na criação da Ordem das Mercês (fundada para salvar cristãos capturados d
 urante a Reconquista Espanhola).\n\n\n\n\n\nNascimento: ano de 1175 d.C. em
  Vilafranca del Penedês, Catalunha, Espanha\n\n\nMorte: ano de 1275 d.C. em
  Barcelona\n\n\n\n\n\nCuriosidade: São Raimundo de Penhaforte é representad
 o com vestes dominicanas\n\n\n\n
DTSTAMP:20260424T193825Z
DTSTART;TZID=Europe/Lisbon;VALUE=DATE:20460107
DTEND;TZID=Europe/Lisbon;VALUE=DATE:20460108
SEQUENCE:0
TRANSP:OPAQUE
END:VEVENT
END:VCALENDAR