BEGIN:VCALENDAR
VERSION:2.0
PRODID:-//jEvents 2.0 for Joomla//EN
CALSCALE:GREGORIAN
METHOD:PUBLISH
BEGIN:VTIMEZONE
TZID:Europe/Lisbon
BEGIN:STANDARD
DTSTART:20200128T000000
RDATE:20200329T020000
TZOFFSETFROM:+0100
TZOFFSETTO:+0000
TZNAME:Europe/Lisbon WET
END:STANDARD
BEGIN:STANDARD
DTSTART:20201025T010000
RDATE:20210328T020000
TZOFFSETFROM:+0100
TZOFFSETTO:+0000
TZNAME:Europe/Lisbon WET
END:STANDARD
BEGIN:DAYLIGHT
DTSTART:20200329T020000
RDATE:20201025T010000
TZOFFSETFROM:+0000
TZOFFSETTO:+0100
TZNAME:Europe/Lisbon WEST
END:DAYLIGHT
END:VTIMEZONE
BEGIN:VEVENT
UID:bbc84b6f21c1226a8d2191246b387576
CATEGORIES:Santos
SUMMARY:São Tomás de Aquino
DESCRIPTION;ENCODING=QUOTED-PRINTABLE:São Tomás de Aquino foi um padre dominicano, um filósofo e teólogo.\nSão To
 más de Aquino nasceu em Aquino, Itália no ano de 1225 e faleceu a 7 de març
 o de 1274 em Fossanova, Itália. O pai de São Tomás de Aquino era o Conde La
 ndulf de Aquino e a sua mãe a condessa Teodora de Theate.\nO tio paterno de
  São Tomás de Aquino era abade na abadia beneditina em Monte Cassino. Enqua
 nto os seus irmãos da família seguiram uma carreira militar, a família pret
 endida que São Tomás de Aquino seguisse o seu tio na abadia, pois era essa 
 a tradição nas famílias da nobreza sulista italiana para os filhos mais nov
 os.\n Aos cinco anos, São Tomás de Aquino começou a sua instrução em Monte 
 Cassino, mas depois do conflito militar entre o imperador Frederico II e o 
 Papa Gregório IX no início de 1239, os seus pais matricularam-no na studium
  generale (universidade).\nAos 19 anos e contra a vontade da família, São T
 omás de Aquino entrou na ordem fundada por Domingos de Gusmão.\n  Curiosida
 de: É o padroeiro dos estudantes.\n
DTSTAMP:20260420T091647Z
DTSTART;TZID=Europe/Lisbon;VALUE=DATE:20210128
DTEND;TZID=Europe/Lisbon;VALUE=DATE:20210129
SEQUENCE:0
TRANSP:OPAQUE
END:VEVENT
END:VCALENDAR