BEGIN:VCALENDAR
VERSION:2.0
PRODID:-//jEvents 2.0 for Joomla//EN
CALSCALE:GREGORIAN
METHOD:PUBLISH
BEGIN:VTIMEZONE
TZID:Europe/Lisbon
BEGIN:STANDARD
DTSTART:20201025T010000
RDATE:20210328T020000
TZOFFSETFROM:+0100
TZOFFSETTO:+0000
TZNAME:Europe/Lisbon WET
END:STANDARD
BEGIN:DAYLIGHT
DTSTART:20200507T000000
RDATE:20201025T010000
TZOFFSETFROM:+0000
TZOFFSETTO:+0100
TZNAME:Europe/Lisbon WEST
END:DAYLIGHT
END:VTIMEZONE
BEGIN:VEVENT
UID:f941f3e143b2cbfd79e8b9884be5b0fb
CATEGORIES:Santos
SUMMARY:Juliana de Norwich
DESCRIPTION;ENCODING=QUOTED-PRINTABLE:Juliana de Norwich nasceu em 1342 em Norwich, Inglaterra e faleceu na mesma
  cidade em 1421.\nBeneditina, Juliana foi reclusa em Norwich, vivendo fora 
 das paredes só quando ia a Igreja de São Julião.\nJuliana de Norwich é cham
 ada santa, contudo não foi formalmente canonizada, mas é venerada tanto na 
 Igreja Católica como na Igreja Ortodoxa. Pouco se sabe de Juliana de Norwic
 h, na verdade, nem sabemos se o seu nome era esse mesmo ou se a chamam assi
 m devido ao nome da cela em que ela vivia.\nEm 1393 Juliana de Norwich era 
 uma reclusa e tinha dois serventes que a atendiam quando atingiu a idade av
 ançada. Ela recebeu 16 revelações e passou 20 anos meditando sobre elas. As
  revelações foram seguidas de estado de êxtase, da Paixão de Cristo e da Tr
 indade.\nJuliana de Norwich viu o sangue vermelho fluindo sobre a Coroa de 
 Espinhos, viu a Virgem como uma jovem e simples senhora. Numa das revelaçõe
 s Juliana de Norwich viu Jesus mostrando-lhe uma castanha na palma da mão. 
 Ela pensou: &ldquo;O que será isso?&rdquo; e Jesus respondeu: &ldquo;Isto é
  tudo que é criado. Deus deu forma, Deus deu vida, Deus mantém ela assim.&r
 dquo;\nJuliana de Norwich morreu em 1421 com 79 anos.\n
DTSTAMP:20260421T013223Z
DTSTART;TZID=Europe/Lisbon;VALUE=DATE:20210508
DTEND;TZID=Europe/Lisbon;VALUE=DATE:20210509
SEQUENCE:0
TRANSP:OPAQUE
END:VEVENT
END:VCALENDAR