BEGIN:VCALENDAR
VERSION:2.0
PRODID:-//jEvents 2.0 for Joomla//EN
CALSCALE:GREGORIAN
METHOD:PUBLISH
BEGIN:VTIMEZONE
TZID:Europe/Lisbon
BEGIN:STANDARD
DTSTART:20191027T010000
RDATE:20200329T020000
TZOFFSETFROM:+0100
TZOFFSETTO:+0000
TZNAME:Europe/Lisbon WET
END:STANDARD
BEGIN:STANDARD
DTSTART:20201025T010000
RDATE:20210328T020000
TZOFFSETFROM:+0100
TZOFFSETTO:+0000
TZNAME:Europe/Lisbon WET
END:STANDARD
BEGIN:DAYLIGHT
DTSTART:20190508T000000
RDATE:20191027T010000
TZOFFSETFROM:+0000
TZOFFSETTO:+0100
TZNAME:Europe/Lisbon WEST
END:DAYLIGHT
BEGIN:DAYLIGHT
DTSTART:20200329T020000
RDATE:20201025T010000
TZOFFSETFROM:+0000
TZOFFSETTO:+0100
TZNAME:Europe/Lisbon WEST
END:DAYLIGHT
END:VTIMEZONE
BEGIN:VEVENT
UID:b800db22f1d4e097314a56b1aed98ead
CATEGORIES:Santos
SUMMARY:Patrocínio da Beata Virgem Maria sobre toda a família dominicana
DESCRIPTION;ENCODING=QUOTED-PRINTABLE:Desde a sua criação, a história da Ordem dos Pregadores tem sido associada 
 com o reconhecimento da figura de Maria como modelo de vida cristã, proteto
 ra e intercessora permanente, como expresso nos documentos que tratam das o
 rigens e primórdios da comunidade fundada por São Domingo de Gusmão (http:/
 /www.paroquia-almancil.pt/utilidades/vida-dos-santos/icalrepeat.detail/2018
 /08/08/15675/-/s%C3%A3o-domingos-de-gusm%C3%A3o.html).\nOs dominicanos afir
 mam: &ldquo;Temos muitas razões para pensar que a Virgem Maria é a Patrona 
 especial de nossa Ordem, confiando em eventos que ocorreram nos primeiros d
 ias da Ordem. A Virgem disse: "Esta Ordem está sob minha tutela". Ela é a m
 ãe especial da Ordem dos Pregadores fundada para louvar, abençoar e pregar 
 seu Filho, e por isso ela a guia, promove e defende.&rdquo;\nNa liturgia da
  Ordem, é tradição completar a oração das completas com uma procissão maria
 na. Gerardo de Frachet, um dos cronistas mais proeminentes dos primórdios d
 a Ordem, que tinha começado a sua escrita sob o tema "Como Nossa Senhora ob
 tidos a partir de seu Filho da Ordem dos Pregadores" (De Frachet, 1987), ma
 is tarde recolhe-se e desenvolve 22 narrações sobre "Como Nossa Senhora ama
  e protege a Ordem com singular afeto" (De Frachet, 1987). Esta experiência
  comunitária dos primórdios dominicanos deu origem à festa do Patrocínio da
  Virgem Maria na Ordem.\nA devoção à Virgem Maria não tem sido apenas uma e
 xperiência pessoal, espontânea e livre de alguns frades nas origens ou em a
 lgumas épocas e lugares, nem deixada à subjetividade ou inspiração individu
 al. É também um fato canônico e legalmente afirmado, recomendado, promovido
  e cuidado.\n
DTSTAMP:20260423T011526Z
DTSTART;TZID=Europe/Lisbon;VALUE=DATE:20200508
DTEND;TZID=Europe/Lisbon;VALUE=DATE:20200509
SEQUENCE:0
TRANSP:OPAQUE
END:VEVENT
END:VCALENDAR