BEGIN:VCALENDAR
VERSION:2.0
PRODID:-//jEvents 2.0 for Joomla//EN
CALSCALE:GREGORIAN
METHOD:PUBLISH
BEGIN:VTIMEZONE
TZID:Europe/Lisbon
END:VTIMEZONE
BEGIN:VEVENT
UID:b9b56026378625be5abeb254c684c2da
CATEGORIES:Santos
SUMMARY:Beato Marcolino de Forli
DESCRIPTION;ENCODING=QUOTED-PRINTABLE:O Beato Marcolino de Forli, também é conhecido por Marcolino Amani, nasceu 
 no ano 1317 em Forli, Itália e faleceu a 24 de Janeiro de 1397.\nCom 10 ano
 s, Marcolino de Forli entrou para os Dominicanos e viveu sob as Regras da O
 rdem durante 70 anos. \nEra devoto da Virgem Maria, e a vida de Marcolino d
 e Forli era preenchida de orações, sendo que possuía o dom de aconselhar e 
 revigorar a fé dos seus irmãos, fazendo com que ainda vivo, angariasse a fa
 ma de santo.\nMarcolino de Forli era um notável pregador e conhecedor da Sa
 grada Escritura. \nFoi beatificado a 9 de Maio de 1750 pelo Papa Bento XIV.
 \n \nConta uma lenda que na altura da morte de Marcolino de Forli um anjo e
 m forma de uma bela criança andou pelas ruas anunciando a morte deste e dep
 ois desapareceu.\n\n\n\n
DTSTAMP:20260421T043352Z
DTSTART;TZID=Europe/Lisbon;VALUE=DATE:20270127
DTEND;TZID=Europe/Lisbon;VALUE=DATE:20270128
SEQUENCE:0
TRANSP:OPAQUE
END:VEVENT
END:VCALENDAR