BEGIN:VCALENDAR
VERSION:2.0
PRODID:-//jEvents 2.0 for Joomla//EN
CALSCALE:GREGORIAN
METHOD:PUBLISH
BEGIN:VEVENT
UID:987ad91dbeb3925ba4a26c0d24ea4541
CATEGORIES:Santos
SUMMARY:Beato Jorge Matulaitis-Matulewicz
DESCRIPTION;ENCODING=QUOTED-PRINTABLE:O Beato Jorge Matulaitis-Matulewicz nasceu a 13 de abril de 1871 em Lüginé,
  Lituânia e faleceu a 27 de janeiro de 1927 em Kaunas. Foi um arcebispo cat
 ólico lituano, que nasceu na Lituânia e foi o último de oito filhos do casa
 l.\nNo ano de 1889 o Beato Jorge Matulaitis mudou-se para a Polónia, trocan
 do o apelido de Matulaitis para Matulewicz. \nJorge Matulaitis-Matulewicz c
 ompletou os seus estudos teológicos e foi ordenado sacerdote em 20 de novem
 bro de 1889.\nNo ano de 1911, o Beato Jorge Matulaitis-Matulewicz foi nomea
 do Superior Geral da Congregação dos Padres Marianos da Imaculada Conceição
 , e lutou para recuperar as casas e os terrenos tomados pelo estado.\nJorge
  Matulaitis foi nomeado Bispo de Vilnius no dia 1 de dezembro de 1918, poré
 m no ano de 1925 deixou o cargo para se voltar a dedicar à Congregação. Ent
 ão, o Papa Bento XV, nomeou o Beato Jorge Matulaitis-Matulewicz arcebispo t
 itular de Adulis. \nViria a falecer no ano de 1927 de apendicite e foi ente
 rrado na Catedral de Kaunas, entretanto no ano de 1934 o corpo do Beato Jor
 ge Matulaitis-Matulewicz foi transladado para a igreja de Marijampolé.\nFoi
  beatificado a 28 de junho de 1987 pelo Papa João Paulo II.\n
DTSTAMP:20260424T130817Z
DTSTART;TZID=Europe/Lisbon;VALUE=DATE:20450127
DTEND;TZID=Europe/Lisbon;VALUE=DATE:20450128
SEQUENCE:0
TRANSP:OPAQUE
END:VEVENT
END:VCALENDAR