BEGIN:VCALENDAR
VERSION:2.0
PRODID:-//jEvents 2.0 for Joomla//EN
CALSCALE:GREGORIAN
METHOD:PUBLISH
BEGIN:VTIMEZONE
TZID:Europe/Lisbon
BEGIN:STANDARD
DTSTART:20191027T010000
RDATE:20200329T020000
TZOFFSETFROM:+0100
TZOFFSETTO:+0000
TZNAME:Europe/Lisbon WET
END:STANDARD
BEGIN:STANDARD
DTSTART:20201025T010000
RDATE:20210328T020000
TZOFFSETFROM:+0100
TZOFFSETTO:+0000
TZNAME:Europe/Lisbon WET
END:STANDARD
BEGIN:DAYLIGHT
DTSTART:20190503T000000
RDATE:20191027T010000
TZOFFSETFROM:+0000
TZOFFSETTO:+0100
TZNAME:Europe/Lisbon WEST
END:DAYLIGHT
BEGIN:DAYLIGHT
DTSTART:20200329T020000
RDATE:20201025T010000
TZOFFSETFROM:+0000
TZOFFSETTO:+0100
TZNAME:Europe/Lisbon WEST
END:DAYLIGHT
END:VTIMEZONE
BEGIN:VEVENT
UID:6eaff4e5eede6c5975a629c414d219ba
CATEGORIES:Santos
SUMMARY:São Filipe
DESCRIPTION;ENCODING=QUOTED-PRINTABLE:Pouco se sabe da vida de São Filipe (apóstolo) mas o que se sabe é verdadei
 ramente belo. São Felipe era natural de Betsaida, na Galileia. São Crisósto
 mo diz que São Felipe foi casado e tinha duas filhas. São Filipe foi o quin
 to apóstolo a ser chamado por Jesus Cristo (Jo 1:43). Logo após ter sido co
 nvidado por Jesus, São Filipe convida São Bartolomeu (também conhecido como
  Natanael) para seguir o Messias.Segundo Clemente de Alexandria, terá sido 
 São Filipe o Apóstolo que pediu a Jesus Cristo licença para sepultar o pai,
  e que recebeu de Nosso Senhor a resposta: "Segue-me e deixa os mortos sepu
 ltarem os mortos".Terá sido São Filipe que no milagre da multiplicação dos 
 pães perguntou a Jesus onde havia de arranjar comida para tanta gente.Certa
  ocasião, em que vieram alguns pagãos para ver Jesus, foram São Filipe e Sa
 nto André que os apresentaram ao Divino Mestre. Foi São Filipe que pediu a 
 Jesus Cristo para mostrar o Pai aos apóstolos, tendo Jesus respondido &ldqu
 o;quem me vê, vê o Pai".Existe um facto realmente extraordinário na vida Sã
 o Filipe. Um dia, quando obrigado a reverenciar o deus Marte acendendo-lhe 
 incenso, surge detrás do altar pagão uma cobra que mata o filho do sacerdot
 e-mor e dois dos seus servos. São Filipe fá-los reviver (tal como Lázaro re
 viveu e não ressuscitou) e matou a cobra. Esse milagre de São Filipe origin
 ou a conversão de muitas pessoas ao cristianismo.Não se sabe exatamente com
 o ou quando São Filipe morreu. Mas o mais provável é que tenha sido crucifi
 cado aos oitenta e sete anos, por ordem do imperador Domiciano. As suas rel
 íquias estão guardadas numa igreja de Roma, junto com as de São Tiago Menor
 . São Filipe rogai por nós! 
DTSTAMP:20260423T011526Z
DTSTART;TZID=Europe/Lisbon;VALUE=DATE:20200503
DTEND;TZID=Europe/Lisbon;VALUE=DATE:20200504
SEQUENCE:0
TRANSP:OPAQUE
END:VEVENT
END:VCALENDAR