BEGIN:VCALENDAR
VERSION:2.0
PRODID:-//jEvents 2.0 for Joomla//EN
CALSCALE:GREGORIAN
METHOD:PUBLISH
BEGIN:VTIMEZONE
TZID:Europe/Lisbon
BEGIN:STANDARD
DTSTART:20191027T010000
RDATE:20200329T020000
TZOFFSETFROM:+0100
TZOFFSETTO:+0000
TZNAME:Europe/Lisbon WET
END:STANDARD
BEGIN:STANDARD
DTSTART:20201025T010000
RDATE:20210328T020000
TZOFFSETFROM:+0100
TZOFFSETTO:+0000
TZNAME:Europe/Lisbon WET
END:STANDARD
BEGIN:DAYLIGHT
DTSTART:20190502T000000
RDATE:20191027T010000
TZOFFSETFROM:+0000
TZOFFSETTO:+0100
TZNAME:Europe/Lisbon WEST
END:DAYLIGHT
BEGIN:DAYLIGHT
DTSTART:20200329T020000
RDATE:20201025T010000
TZOFFSETFROM:+0000
TZOFFSETTO:+0100
TZNAME:Europe/Lisbon WEST
END:DAYLIGHT
END:VTIMEZONE
BEGIN:VEVENT
UID:7ef3723130e2507ac4715eaaca8f0053
CATEGORIES:Santos
SUMMARY:Beata Mafalda
DESCRIPTION;ENCODING=QUOTED-PRINTABLE:Beata Mafalda nasceu no ano de 1195 ou 1196 e faleceu a 1 de maio de 1257 n
 o Mosteiro de Arouca (Portugal).\nBeata Mafalda foi batizada com o nome Maf
 alda Sanches e era filha de D. Sancho I (1154-1211) segundo rei de Portugal
  e de D. Dulce. D. Sancho I faleceu em 1211 e deixou a regência aos cuidado
 s da rainha viúva e o poder efetivo ao ministro Nunez de Lara. Seu pai Sanc
 ho l faleceu em 1211. Quando a mãe da Beata Mafalda assumiu o trono influen
 ciada pelo ministro Nunez de Lara, (homem astuto que queria governar), D. D
 ulce estreita o relacionamento com o reino de Castela (Espanha). Este bom r
 elacionamento deveria ser selado com um matrimónio, e o ministro Nunez de L
 ara decide que Mafalda deve esposar Henrique I de Castela, que era um rapaz
  mais jovem do que ela. Entretanto Henrique I de Castela morre prematuramen
 te e o casamento é anulado pelo Papa Inocêncio III (segundo algumas fontes 
 porque o casamento não foi consumado, segundo outras porque Beata Mafalda e
  Henrique I eram parentes).\nBeata Mafalda escolheu então o recolhimento da
  vida do claustro retirando-se no Mosteiro de Arouca. Vendo ali muitas cois
 as a restaurar, decidiu chamar monjas cistercienses para reformar o convent
 o beneditino em crise. Ela mesma tomou o hábito da Ordem de Cister.\nDepois
 , com todos os seus bens, Beata Mafalda cria hospitais e casas religiosas n
 os territórios devastados pela guerra, participando do grandioso esforço co
 letivo para restabelecer a vitalidade das regiões abandonadas. Deixou o mos
 teiro somente para uma peregrinação à cidade do Porto, onde a sua avó (Mafa
 lda de Sabóia) havia iniciado a construção de uma catedral. Quando Beata Ma
 falda amadureceu na vida religiosa, foi eleita superiora do mosteiro de Aro
 uca e exerceu esta função por alguns anos. Nesse tempo, por causa de sua gr
 ande cultura e sabedoria, ela conseguiu levar as irmãs a uma vida religiosa
  mais profunda, mais rica e mais de acordo com a regra cisterciense.\nO mos
 teiro floresceu sob a coordenação de Beata Mafalda e tornou-se famoso pela 
 caridade que exercia com os pobres. Depois, quando terminou o seu mandato, 
 Beata Mafalda recolheu-se à sua vida simples de freira obediente e de profu
 nda vida de oração.\nBeata Mafalda morreu no Mosteiro de Arouca a 1 de maio
  de 1257 numa total humildade, deitada sobre cinzas e com o cilício.\nForam
  beneficiados por sua distribuição testamentária os mosteiros de Arouca, Tu
 ias, São Tirso, Paço de Sousa, Vila Boa do Bispo e Alcobaça, mais as Ordens
  do Templo, Hospital e Avis, Dominicanos do Porto e as sés do Porto e Lameg
 o.\nLogo são relatados milagres ocorridos próximo de seu túmulo. Uma exumaç
 ão feita em 1617 mostra seu corpo ainda intacto.\nFoi beatificada em março 
 de 1792 pelo Papa Pio VI.\n
DTSTAMP:20260421T011124Z
DTSTART;TZID=Europe/Lisbon;VALUE=DATE:20200502
DTEND;TZID=Europe/Lisbon;VALUE=DATE:20200503
SEQUENCE:0
TRANSP:OPAQUE
END:VEVENT
END:VCALENDAR