BEGIN:VCALENDAR
VERSION:2.0
PRODID:-//jEvents 2.0 for Joomla//EN
CALSCALE:GREGORIAN
METHOD:PUBLISH
BEGIN:VTIMEZONE
TZID:Europe/Lisbon
BEGIN:STANDARD
DTSTART:20181028T010000
RDATE:20190331T020000
TZOFFSETFROM:+0100
TZOFFSETTO:+0000
TZNAME:Europe/Lisbon WET
END:STANDARD
BEGIN:STANDARD
DTSTART:20191027T010000
RDATE:20200329T020000
TZOFFSETFROM:+0100
TZOFFSETTO:+0000
TZNAME:Europe/Lisbon WET
END:STANDARD
BEGIN:STANDARD
DTSTART:20201025T010000
RDATE:20210328T020000
TZOFFSETFROM:+0100
TZOFFSETTO:+0000
TZNAME:Europe/Lisbon WET
END:STANDARD
BEGIN:DAYLIGHT
DTSTART:20180430T000000
RDATE:20181028T010000
TZOFFSETFROM:+0000
TZOFFSETTO:+0100
TZNAME:Europe/Lisbon WEST
END:DAYLIGHT
BEGIN:DAYLIGHT
DTSTART:20190331T020000
RDATE:20191027T010000
TZOFFSETFROM:+0000
TZOFFSETTO:+0100
TZNAME:Europe/Lisbon WEST
END:DAYLIGHT
BEGIN:DAYLIGHT
DTSTART:20200329T020000
RDATE:20201025T010000
TZOFFSETFROM:+0000
TZOFFSETTO:+0100
TZNAME:Europe/Lisbon WEST
END:DAYLIGHT
END:VTIMEZONE
BEGIN:VEVENT
UID:a13394848b65b69fa9701c60118f1755
CATEGORIES:Santos
SUMMARY:São Ricardo Pampuri
DESCRIPTION;ENCODING=QUOTED-PRINTABLE:São Ricardo Pampuri nasceu em Trivolzio, perto de Pávia (Itália), a 2 de ag
 osto de 1897 e faleceu a 1 de maio de 1930.\nSão Ricardo Pampuri foi batiza
 do no dia seguinte ao seu nascimento, com o nome de Hermínio Filipe.\nSão R
 icardo Pampuri era filho de Inocente Pampuri e Ângela Campari e foi o penúl
 timo de 11 filhos. São Ricardo Pampuri ficou órfão de mãe com três anos de 
 idade. Quando São Ricardo Pampuri tinha dez anos o seu pai faleceu num acid
 ente de viação e o santo foi confiado aos tios.\nApesar de todas as dificul
 dades, São Ricardo Pampuri completou o ensino primário na sua cidade natal.
  Fez o secundário em Milão e, mais tarde, entrou para a faculdade de Medici
 na de Pavia.\nAinda jovem estudante, São Ricardo Pampuri entrou para a Soci
 edade de São Vicente de Paulo e colaborou na fundação da Associação Juvenil
  da Associação Católica "Dom Bosco".\nMatricula-se na Faculdade de Medicina
  da Universidade de Pavia em 1915, mas a 1 de abril de 1917, São Ricardo Pa
 mpuri inicia o serviço militar, sendo enviado três meses depois para a fren
 te de combate, agregado aos serviços de saúde.\nRegressado da primeira guer
 ra mundial, São Ricardo Pampuri completa os seus estudos em medicina e no d
 ia 6 de julho de 1921 alcança a licenciatura em Medicina, com a máxima clas
 sificação. São Ricardo Pampuri tornou-se médico de família em Morimondo, um
 a aldeia não muito distante de Trivolzio, sua cidade natal. Em Morimondo, S
 ão Ricardo Pampuri exerceu a sua profissão com zelo e bondade, pondo em prá
 tica na vida profissional a sua fé e o seu forte sentido de missão. \nAlgum
  tempo depois, São Ricardo Pampuri participa numa peregrinação a Lourdes, n
 a companhia dos tios, com paragem em Paray-le-Monial e em Ars. Cresce a ide
 ia de seguir a vida religiosa, com o auxílio do P. Ricardo Beretta, seu con
 hecido desde 1923.\nA 6 de junho de 1927 São Ricardo Pampuri pede para ingr
 essar na Ordem Hospitaleira de São João de Deus, onde entra a 22 de junho c
 omo postulante. No dia 21 de outubro ingressa no noviciado e muda o seu nom
 e de batismo para Ricardo. São Ricardo Pampuri faz os votos temporários no 
 dia 24 de outubro de 1928. É encarregado do gabinete de dentista.\nEm agost
 o de 1929 agravam-se as suas condições de saúde. Morre em Milão, no dia 1 d
 e maio de 1930 com uma broncopneumonia devido a uma lesão contraída na guer
 ra.\nFoi canonizado a 1 de novembro de 1989 pelo Papa João Paulo II.\nSão R
 icardo Pampuri, rogai por nós!\n
DTSTAMP:20260420T204841Z
DTSTART;TZID=Europe/Lisbon;VALUE=DATE:20190501
DTEND;TZID=Europe/Lisbon;VALUE=DATE:20190502
SEQUENCE:0
TRANSP:OPAQUE
END:VEVENT
END:VCALENDAR