BEGIN:VCALENDAR
VERSION:2.0
PRODID:-//jEvents 2.0 for Joomla//EN
CALSCALE:GREGORIAN
METHOD:PUBLISH
BEGIN:VTIMEZONE
TZID:Europe/Lisbon
END:VTIMEZONE
BEGIN:VEVENT
UID:33464d44c43b8ced8a861879003c4347
CATEGORIES:Santos
SUMMARY:São Henrique de Ossó e Cervelhó
DESCRIPTION;ENCODING=QUOTED-PRINTABLE:São Henrique de Ossó e Cervelhó nasceu a 15 de Outubro de 1840 em Vinebre, 
 Espanha e faleceu no ano de 1896. Ficou órfão de mãe, quando tinha 14 anos.
  Com a perca da mãe, no jovem Henrique de Ossó e Cervelhó, nasceu um imenso
  desejo de ser sacerdote. E aos 27 anos, São Henrique de Ossó e Cervelhó, v
 iu o seu desejo cumprido quando foi ordenado sacerdote. \nA vida de São Hen
 rique Cervelhó, foi toda a confirmação de ser ministro, apóstolo e missioná
 rio de Jesus. Era um grande devoto de Santa Teresa de Ávila (http://www.par
 oquia-almancil.pt/utilidades/vida-dos-santos/icalrepeat.detail/2018/10/15/5
 1299/-/s-teresa-de-jesus.html) e tornou-se um incansável pregador da doutri
 na desta.\n  \nCuriosidade: São Henrique de Ossó e Cervelhó foi o fundador 
 da Companhia de Santa Teresa de Jesus, da Congregação das Irmãs Teresianas 
 e também do MTA.\n\n
DTSTAMP:20260421T043141Z
DTSTART;TZID=Europe/Lisbon;VALUE=DATE:20270127
DTEND;TZID=Europe/Lisbon;VALUE=DATE:20270128
SEQUENCE:0
TRANSP:OPAQUE
END:VEVENT
END:VCALENDAR