BEGIN:VCALENDAR
VERSION:2.0
PRODID:-//jEvents 2.0 for Joomla//EN
CALSCALE:GREGORIAN
METHOD:PUBLISH
BEGIN:VEVENT
UID:0bb697b03f450345a34fad56b8bc7b10
CATEGORIES:Santos
SUMMARY:Nossa Senhora da Penha de França
DESCRIPTION;ENCODING=QUOTED-PRINTABLE:
DTSTAMP:20260425T030844Z
DTSTART;TZID=Europe/Lisbon;VALUE=DATE:20440908
DTEND;TZID=Europe/Lisbon;VALUE=DATE:20440909
SEQUENCE:0
TRANSP:OPAQUE
END:VEVENT
END:VCALENDAR