BEGIN:VCALENDAR
VERSION:2.0
PRODID:-//jEvents 2.0 for Joomla//EN
CALSCALE:GREGORIAN
METHOD:PUBLISH
BEGIN:VTIMEZONE
TZID:Europe/Lisbon
BEGIN:STANDARD
DTSTART:20161030T010000
RDATE:20170326T020000
TZOFFSETFROM:+0100
TZOFFSETTO:+0000
TZNAME:Europe/Lisbon WET
END:STANDARD
BEGIN:STANDARD
DTSTART:20171029T010000
RDATE:20180325T020000
TZOFFSETFROM:+0100
TZOFFSETTO:+0000
TZNAME:Europe/Lisbon WET
END:STANDARD
BEGIN:STANDARD
DTSTART:20181028T010000
RDATE:20190331T020000
TZOFFSETFROM:+0100
TZOFFSETTO:+0000
TZNAME:Europe/Lisbon WET
END:STANDARD
BEGIN:STANDARD
DTSTART:20191027T010000
RDATE:20200329T020000
TZOFFSETFROM:+0100
TZOFFSETTO:+0000
TZNAME:Europe/Lisbon WET
END:STANDARD
BEGIN:STANDARD
DTSTART:20201025T010000
RDATE:20210328T020000
TZOFFSETFROM:+0100
TZOFFSETTO:+0000
TZNAME:Europe/Lisbon WET
END:STANDARD
BEGIN:DAYLIGHT
DTSTART:20160427T000000
RDATE:20161030T010000
TZOFFSETFROM:+0000
TZOFFSETTO:+0100
TZNAME:Europe/Lisbon WEST
END:DAYLIGHT
BEGIN:DAYLIGHT
DTSTART:20170326T020000
RDATE:20171029T010000
TZOFFSETFROM:+0000
TZOFFSETTO:+0100
TZNAME:Europe/Lisbon WEST
END:DAYLIGHT
BEGIN:DAYLIGHT
DTSTART:20180325T020000
RDATE:20181028T010000
TZOFFSETFROM:+0000
TZOFFSETTO:+0100
TZNAME:Europe/Lisbon WEST
END:DAYLIGHT
BEGIN:DAYLIGHT
DTSTART:20190331T020000
RDATE:20191027T010000
TZOFFSETFROM:+0000
TZOFFSETTO:+0100
TZNAME:Europe/Lisbon WEST
END:DAYLIGHT
BEGIN:DAYLIGHT
DTSTART:20200329T020000
RDATE:20201025T010000
TZOFFSETFROM:+0000
TZOFFSETTO:+0100
TZNAME:Europe/Lisbon WEST
END:DAYLIGHT
END:VTIMEZONE
BEGIN:VEVENT
UID:3ff953699b9cd3d711bd6ce2b118506d
CATEGORIES:Santos
SUMMARY:São Pedro Chanel
DESCRIPTION;ENCODING=QUOTED-PRINTABLE:São Pedro Chanel nasceu a 12 de junho de 1803 em Cuet (França) e faleceu a 
 28 de abril de 1841 em na ilha deFutuna, Wallis e Futuna (Oceânia). São Ped
 ro Chanel era o quinto filho do casal Francisco Chanel e Maria Ana Sibellas
 . São Pedro Chanel foi batizado quatro dias depois de nascer. Tinha sete ir
 mãos.\nNascido no seio duma família humilde, aos sete anos São Pedro Chanel
  foi encarregado de levar para pastar o modesto rebanho da família (três va
 cas, quatro cordeiros e duas cabras).\nNos anos de 1810 e 1811, São Pedro C
 hanel frequentou a escola mais perto de casa em Saint-Didier d&rsquo;Aussai
 t, a seis quilómetros de Cuet mas os seus resultados foram fracos pois o po
 uco que aprendia no inverno esquecia-se depois quando cuidava do rebanho.\n
 Nos três anos seguintes, São Pedro Chanel foi à escola sob a tutela do abad
 e Trompier, padre do povoado vizinho (Cras-sur-Reyssouze, a 4 quilómetros d
 a sua casa) e ficou alojado na casa duma tia. Quando em 1815 o abade Trompi
 er foi nomeado, pároco de Monsols (nas montanhas do Beaujolais), propôs lev
 á-lo São Pedro Chanel e encarregar-se da sua educação, coisa que os seus pa
 is aceitaram.\nEm Monsols, São Pedro Chanel fez grandes progressos nas ciên
 cias humanas, mas também, como acólito e ajudante do padre em missas, visit
 as aos doentes, funerais. No ano seguinte e devido a questões de saúde, o p
 adre Trompier volta para Cras-sur-Reyssouze e São Pedro Chanel volta com el
 e, mas desta vez não fica alojado com a sua tia, mas sim com o padre.\nA 23
  de março de 1817 São Pedro Chanel fez a primeira comunhão e tomou como res
 olução rezar diariamente o rosário.\nEm julho de 1819 São Pedro Chanel foi 
 continuar os seus estudos no seminário menor de Meximieux, onde se destacou
  muito rápido como brilhante aluno e como fervente membro da Congregação da
  Santíssima Virgem, associação em que se agrupavam os melhores alunos. São 
 Pedro Chanel ficou no seminário menor por três anos até terminar os seus es
 tudos em retórica.\nEm outubro de 1824 São Pedro Chanel inicia os estudos d
 e teologia no seminário maior de Bourg e foi ordenado sacerdote a 15 de jul
 ho de 1827. Em seguida, foi nomeado vigário paroquial de Ambéreu-en-Bugey.\
 nUm dos primeiros atos como vigário paroquial de São Pedro Chanel foi a int
 rodução do mês de Maria. Rapidamente as suas atividades pastorais fizeram c
 om que sonhasse com as missões. O seu bispo não lhe deu autorização pois ha
 via na diocese grande carência de sacerdotes.\nNa altura o sacerdote Juan C
 láudio Colin dirigia as missões paroquiais da diocese de Belley com um grup
 o de companheiros que se formavam a &ldquo;Sociedade de Maria&rdquo; ou Mar
 istas. Depois de várias entrevistas, de muita reflexão e oração, e de perti
 nentes consultas, o Pe. Pedro Chanel manifestou seu desejo de ingressar na 
 Sociedade de Maria, entre cujas missões figurava a evangelização dos infiéi
 s. Depois de ser aceite pelo Pe. Colin, e obter a permissão do senhor bispo
  Monsenhor Devie, São Pedro Chanel assegurou o futuro da sua irmã Francisca
  Maria Chanel que desejando ser religiosa ingressou no convento de Bon-Repo
 s, então, Casa-mãe das Irmãs Maristas, onde professou com o nome de Irmã Sa
 nto Domingo.\n Como a Sociedade de Maria ainda não tinha sido aprovada cano
 nicamente São Pedro Chanel foi trabalhar como professor no colégio-seminári
 o menor de Belley (1831). Em outubro de 1832, foi-lhe confiada a direção es
 piritual do colégio, cargo onde mostrou toda a sua capacidade. \nA 29 de ab
 ril de 1836 o Papa Gregório XVI aprova oficialmente a Sociedade de Maria e 
 indica como campo de evangelização a Oceânia Ocidental, elegendo o Pe. Pomp
 allier como Vigário Apostólico, com o título de bispo de Maronea. Depois fo
 i constituído um grupo de sacerdotes maristas para partirem em missão, entr
 e os quais estava São Pedro Chanel. A 24 de setembro de 1836, os vinte sace
 rdotes que iram partir em missão fizeram os seus votos religiosos na Socied
 ade de Maria.\nA 24 de dezembro de 1836 São Pedro Chanel parte para a Oceân
 ia com o grupo de missionários constituído pelo Monsenhor Pompallier, os pa
 dres maristas: Bataillon, Servant e Bret; e os irmãos maristas: Marie-Nizie
 r, Miguel e José Javier.\nA 11 de novembro de 1837 São Pedro Chanel chega à
  Ilha de Futuna onde fica com o irmão Marie-Nizier. \nNa ilha existiam apen
 as mil pessoas, contudo entre os moradores havia duas fações: os Vencedores
  e os Vencidos, em guerra permanente, ambos com o seu próprio rei. Os missi
 onários são acolhidos como hóspedes pelo rei dos Vencedores, Niuliki, em Al
 o. Mais tarde seriam instalados em casas própria em Poi.\nSão Pedro Chanel 
 celebrou pela primeira vez em missão no dia 8 de dezembro, e no dia de Nata
 l, após missa solene com assistência curiosa de um pequeno público São Pedr
 o Chanel percorreu a ilha com o rosário na mão rezando e conhecendo as pess
 oas, visitando os enfermos e levando-lhes medicamentos.\nDe modo a poder ca
 tequizar o mais rápido possível São Pedro Chanel aprendeu a nível nativa e 
 batizava todas as crianças doentes e em perigo de morte.\nSe no princípio o
 s missionários foram bem acolhidos pelo rei Niuliki, à medida que a pregaçã
 o ia fazendo catecúmenos, as relações foram -se esfriando, já que o rei via
  a sua "religião" ameaçada. Os familiares do rei e o conselho de anciãos co
 meçaram a dificultar-lhes o trabalho missionário, começaram por negar-lhes 
 a comida e roubar até a verdura que plantavam. Não se contentado com a pers
 eguição já promovida, os inimigos lhes roubaram todos os frutos, e também a
 s roupas e os objetos. Apenas ficaram com a roupa do corpo.\nSão Pedro Chan
 el e o irmão Marie-Nizier suportaram tudo com paciência e continuaram com o
  apostolado e os inimigos não contentes com tal procedimento ameaçavam-nos 
 de morte. Por medo do rei, as pessoas que simpatizavam com os missionários,
  não lhes ofereciam ajuda; e os catecúmenos tinham que se reunir secretamen
 te.\nO que levou o rei ao ódio total foi a conversão à fé cristã do seu fil
 ho mais velho. Diante desse acontecimento, o rei mandou que os missionários
  fossem assassinados, tarefa assumida pelo seu genro Musumusu.\nA 27 de abr
 il de 1841 foi assassinado por Musumusu e pelos homens que este tinha reuni
 do.\nSão Pedro Chanel foi canonizado a 12 de junho de 1954 pelo Papa Pio XI
 I.\n \nSão Pedro Chanel rogai por nós!\n
DTSTAMP:20260419T212041Z
DTSTART;TZID=Europe/Lisbon;VALUE=DATE:20170428
DTEND;TZID=Europe/Lisbon;VALUE=DATE:20170429
SEQUENCE:0
TRANSP:OPAQUE
END:VEVENT
END:VCALENDAR