BEGIN:VCALENDAR
VERSION:2.0
PRODID:-//jEvents 2.0 for Joomla//EN
CALSCALE:GREGORIAN
METHOD:PUBLISH
BEGIN:VTIMEZONE
TZID:Europe/Lisbon
BEGIN:STANDARD
DTSTART:20161030T010000
RDATE:20170326T020000
TZOFFSETFROM:+0100
TZOFFSETTO:+0000
TZNAME:Europe/Lisbon WET
END:STANDARD
BEGIN:STANDARD
DTSTART:20171029T010000
RDATE:20180325T020000
TZOFFSETFROM:+0100
TZOFFSETTO:+0000
TZNAME:Europe/Lisbon WET
END:STANDARD
BEGIN:STANDARD
DTSTART:20181028T010000
RDATE:20190331T020000
TZOFFSETFROM:+0100
TZOFFSETTO:+0000
TZNAME:Europe/Lisbon WET
END:STANDARD
BEGIN:STANDARD
DTSTART:20191027T010000
RDATE:20200329T020000
TZOFFSETFROM:+0100
TZOFFSETTO:+0000
TZNAME:Europe/Lisbon WET
END:STANDARD
BEGIN:STANDARD
DTSTART:20201025T010000
RDATE:20210328T020000
TZOFFSETFROM:+0100
TZOFFSETTO:+0000
TZNAME:Europe/Lisbon WET
END:STANDARD
BEGIN:DAYLIGHT
DTSTART:20160425T000000
RDATE:20161030T010000
TZOFFSETFROM:+0000
TZOFFSETTO:+0100
TZNAME:Europe/Lisbon WEST
END:DAYLIGHT
BEGIN:DAYLIGHT
DTSTART:20170326T020000
RDATE:20171029T010000
TZOFFSETFROM:+0000
TZOFFSETTO:+0100
TZNAME:Europe/Lisbon WEST
END:DAYLIGHT
BEGIN:DAYLIGHT
DTSTART:20180325T020000
RDATE:20181028T010000
TZOFFSETFROM:+0000
TZOFFSETTO:+0100
TZNAME:Europe/Lisbon WEST
END:DAYLIGHT
BEGIN:DAYLIGHT
DTSTART:20190331T020000
RDATE:20191027T010000
TZOFFSETFROM:+0000
TZOFFSETTO:+0100
TZNAME:Europe/Lisbon WEST
END:DAYLIGHT
BEGIN:DAYLIGHT
DTSTART:20200329T020000
RDATE:20201025T010000
TZOFFSETFROM:+0000
TZOFFSETTO:+0100
TZNAME:Europe/Lisbon WEST
END:DAYLIGHT
END:VTIMEZONE
BEGIN:VEVENT
UID:426683a794fe359b2e9bbac86c77628d
CATEGORIES:Santos
SUMMARY:Santo Estêvão de Perm
DESCRIPTION;ENCODING=QUOTED-PRINTABLE:Santo Estêvão de Perm nasceu por volta do ano 1340 em Veliky Ustyug (Rússia
 ) e morreu em 1396 em Moscovo (Rússia).\nSanto Estêvão de Perm nasceu no se
 io duma família cristã. Era filho de Simeão e de Maria. Sob a influência da
  mãe, Santo Estêvão de Perm demonstrou desde o início da sua vida um grande
  zelo pelo serviço à Igreja. Ajudava o pai durante os ofícios e aprendeu a 
 ler as Sagradas Escrituras, cumprindo também o papel de leitor. \nNa juvent
 ude, Santo Estêvão de Perm fez os votos monásticos no mosteiro de Rostov. O
  mosteiro de Rostov era famoso pela sua coleção de livros, e Santo Estevão 
 de Perm, desejando ler os Santos Padres no idioma original, aprendeu a líng
 ua grega. \nEm 1376 Santo Estêvão de Perm fez uma viagem pelas terras ao lo
 ngo dos rios Vychegda e Vym e nasceu no santo a vontade de evangelizar o po
 vo komi. Em vez de impor a língua da Igreja Latina ou Eslava ao povo (como 
 tinham feito os missionários que tinham passado por aquelas localidades), S
 anto Estêvão de Perm aprendeu a língua e as tradições do povo komi.\nAssim 
 Santo Estêvão de Perm compilou um alfabeto em zyriano (língua do povo komi)
  e traduziu alguns livros da Igreja. Depois de ter executado esta tarefa fo
 i ordenado diácono pelo bispo de Rostov, Arsênio.\nO povo komi realizava a 
 sua idolatria, principalmente, em frente a uma árvore tida por sagrada, sac
 rificando perto da mesma, animais selvagens. Santo Estevão de Perm construi
 u a sua cela perto da à árvore e aproveitava estes sacrifícios para pregar 
 a verdade. Quando Santo Estêvão de Perm cortou e queimou a árvore, o povo t
 entou matá-lo. Contudo como Santo Estêvão de Perm havia convencido muitos c
 om a sua pregação, conseguiu construir no local uma Igreja dedicada a São M
 iguel Arcanjo, o vencedor dos espíritos das trevas. Os próprios convertidos
  passaram a derrubar e queimar os seus antigos lugares de idolatria, mas ti
 veram de enfrentar a oposição de sacerdotes locais, liderados por Pam, que 
 interveio contra a disseminação da verdadeira fé.\nSanto Estêvão de Perm sa
 lvou a vida do sacerdote Pam, em circunstâncias que desconhecemos, e convid
 ou-o a aceitar Cristo. Como o sacerdote pagão se negou a converter-se ao cr
 istianismo foi banido pelo seu próprio povo.\nEm homenagem à conversão dos 
 zyrianos, o Santo Estevão de Perm construiu uma Igreja dedicada a São Nicol
 au.\nEm 1381, Estevão foi ordenado bispo da cidade de Perm, e a partir dali
  dedicou-se a cuidar de seu rebanho. Abriu várias escolas para os novos con
 vertidos, onde estudavam as Sagradas Escrituras na sua própria língua. Além
  disso, o santo ajudou na tradução para a língua zyriana de vários livros, 
 como o dos Salmos, os Santos Evangelhos e outros.\nSanto Estêvão de Perm de
 fendeu o povo komi da incursão de outras tribos, supriu-os com pão, interce
 deu por eles junto a Moscovo.\nSanto Estêvão de Perm faleceu no ano de 1395
 .\n \nSanto Estêvão de Perm rogai por nós!\n
DTSTAMP:20260419T212208Z
DTSTART;TZID=Europe/Lisbon;VALUE=DATE:20170426
DTEND;TZID=Europe/Lisbon;VALUE=DATE:20170427
SEQUENCE:0
TRANSP:OPAQUE
END:VEVENT
END:VCALENDAR