BEGIN:VCALENDAR
VERSION:2.0
PRODID:-//jEvents 2.0 for Joomla//EN
CALSCALE:GREGORIAN
METHOD:PUBLISH
BEGIN:VTIMEZONE
TZID:Europe/Lisbon
BEGIN:STANDARD
DTSTART:20201025T010000
RDATE:20210328T020000
TZOFFSETFROM:+0100
TZOFFSETTO:+0000
TZNAME:Europe/Lisbon WET
END:STANDARD
BEGIN:DAYLIGHT
DTSTART:20200423T000000
RDATE:20201025T010000
TZOFFSETFROM:+0000
TZOFFSETTO:+0100
TZNAME:Europe/Lisbon WEST
END:DAYLIGHT
END:VTIMEZONE
BEGIN:VEVENT
UID:8436ac301fc30f5d34adc92f5c848459
CATEGORIES:Santos
SUMMARY:São Fiel de Sigmaringa
DESCRIPTION;ENCODING=QUOTED-PRINTABLE:São Fiel de Sigmaringa também é conhecido como São Fidélis de Sigmaringa. S
 ão Fiel de Sigmaringa nasceu a 1 de outubro de 1578 em Sigmaringa (Alemanha
 ) e faleceu a 24 de abril de 1622 em Seewis (Suiça). São Fiel de Sigmaringa
  era filho de Johannes Rey (empresário estalajadeiro, mais tarde presidente
  da Câmara de Sigmaringa (Bürgermeister)) e de sua esposa Genoveva Rosenber
 ger (oriunda de Tubinga) e foi batizado como Markus Rey.\nO seu avô paterno
 , Mathäus, era oriundo de Antuérpia, tendo-se fixado em Sigmaringa em 1529 
 como parte do séquito que vindo dos Países Baixos acompanhou o conde Carlos
  I de Hohenzollern (1512-1576) quando este veio tomar posse do governo do C
 ondado de Zollern. A família ganhou propriedades e prestígio na cidade, viv
 endo segundo as normas da pequena aristocracia urbana.\nDepois de ter feito
  estudos preparatórios na sua cidade natal de Sigmaringa, São Fiel de Sigma
 ringa matriculou-se na Universidade de Friburgo, (atual Suíça), onde estudo
 u Filosofia e Direito civil e canónico vindo a formar-se em Direito no ano 
 1604.\nSão Fiel de Sigmaringa iniciou uma carreira como advogado na cidade 
 de Colmar, na Alsácia, onde exerceu a profissão durante alguns anos. Católi
 co fervoroso, assumia gratuitamente a defesa dos mais necessitados, tornand
 o-se conhecido pelo seu espírito caritativo.\nAos 35 anos e para evitar os 
 perigos morais que comportava a sua carreira, deixou as leis e decidiu segu
 ir outra vocação. São Fiel de Sigmaringa fez-se frade capuchinho em Friburg
 o, cidade onde tinha frequentado os estudos de Direito. Adotou então o nome
  religioso de Fidélis (do latim fidelis, "fiel") e impôs a si mesmo viver e
 m obediência, pobreza, humildade, com espírito de penitência, de austeridad
 e e de sacrificada renúncia.\nSão Fiel de Sigmaringa foi ordenado sacerdote
  a em 4 de outubro de 1612, tornando-se afamado pregador. Depois São Fiel d
 e Sigmaringa foi enviado para a Suíça no contexto das lutas religiosas que 
 se seguiram à Reforma Protestante e à expansão do calvinismo, e foi eleito 
 guardião do convento capuchinho de Weltkirchen, em Feldkirch (na atual Áust
 ria), onde se notabilizou na luta contra o calvinismo, entregando-se fervor
 osamente ao apostolado católico num momento particularmente difícil da vida
  da Igreja Católica naquela região da Europa.\nFace à expansão do calvinism
 o na região dos Grisões, no leste da Suíça, a Congregação para a Doutrina d
 a Fé enviou são Fiel de Sigmaringa, juntamente com alguns frades auxiliares
 , com a missão de combater o que a Igreja Católica considerava a heresia ca
 lvinista que assolava aquela região. Quando no contexto da Guerra dos Trint
 a Anos a disputa entre católicos e calvinistas degenerou numa sangrenta gue
 rra civil alinhada pelas posições dos Valões e do Imperador da Áustria, com
 o enviado da Igreja Católica com a missão específica de lutar contra o calv
 inismo São Fiel de Sigmaringa acabou por atrair a ira das autoridades calvi
 nistas. Após vários incidentes, no dia 24 de abril de 1622, depois de ter s
 ido interrompido com disparos de espingarda numa das suas pregações em Seew
 is, São Fiel de Sigmaringa foi agredido fora da igreja em que pregara e dep
 ois ferido de morte, tendo o seu corpo sido esquartejado.\nSão Fiel de Sigm
 aringa foi canonizado a 29 de junho de 1746 pelo Papa Bento XIV.\nSão Fiel 
 de Sigmaringa é o protomártir da Sagrada Congregação da Propaganda da Fé.\n
  \nSão Fiel de Sigmaringa rogai por nós!\n
DTSTAMP:20260422T121519Z
DTSTART;TZID=Europe/Lisbon;VALUE=DATE:20210424
DTEND;TZID=Europe/Lisbon;VALUE=DATE:20210425
SEQUENCE:0
TRANSP:OPAQUE
END:VEVENT
END:VCALENDAR