BEGIN:VCALENDAR
VERSION:2.0
PRODID:-//jEvents 2.0 for Joomla//EN
CALSCALE:GREGORIAN
METHOD:PUBLISH
BEGIN:VTIMEZONE
TZID:Europe/Lisbon
BEGIN:STANDARD
DTSTART:20200126T000000
RDATE:20200329T020000
TZOFFSETFROM:+0100
TZOFFSETTO:+0000
TZNAME:Europe/Lisbon WET
END:STANDARD
BEGIN:STANDARD
DTSTART:20201025T010000
RDATE:20210328T020000
TZOFFSETFROM:+0100
TZOFFSETTO:+0000
TZNAME:Europe/Lisbon WET
END:STANDARD
BEGIN:DAYLIGHT
DTSTART:20200329T020000
RDATE:20201025T010000
TZOFFSETFROM:+0000
TZOFFSETTO:+0100
TZNAME:Europe/Lisbon WEST
END:DAYLIGHT
END:VTIMEZONE
BEGIN:VEVENT
UID:b83b24e847b3add39d8188322d9bcae4
CATEGORIES:Santos
SUMMARY:São Tito
DESCRIPTION;ENCODING=QUOTED-PRINTABLE:São Tito  nasceu no Século I e faleceu no ano 107, em Gortina, Creta, Gréci
 a.\nSão Tito veio do mundo pagão. Juntamente com São Timóteo (http://www.pa
 roquia-almancil.pt/utilidades/vida-dos-santos/icalrepeat.detail/2018/01/26/
 7591/-/s-tim%C3%B3teo.html) trabalharam com o apóstolo Paulo.\n As únicas i
 nformações concretas que são conhecidas sobre São Tito são-nos dadas pelas 
 cartas do apóstolo Paulo.\nSão Tito era grego e pagão. Ainda jovem converte
 u-se ao cristianismo e tornou-se companheiro e inestimável colaborador do a
 póstolo Paulo. Quando Paulo disse a Tito: &ldquo;Isto deves ensinar, recome
 ndar e reprovar com toda autoridade&rdquo;, fez surgir um outro grande evan
 gelizador, que permaneceu a trabalhar ao seu lado.\nEncarregado pelo apósto
 lo para executar importantes missões, São Tito foi uma vez a Jerusalém para
  entregar a importância duma coleta em favor dos cristãos pobres. &ldquo;Me
 u companheiro e colaborador&rdquo; como escreveu o apóstolo na segunda cart
 a aos Corintos. Companheiro dos momentos importantes, como a famosa reunião
  do concílio de Jerusalém, que tratou da necessidade de renovação e diversi
 ficação dos ritos devido a evangelização no mundo pagão.\nSão Tito, porém, 
 foi também um mediador persuasivo, e entusiasmou Paulo resolvendo uma grave
  crise entre ele e os Corintos. Entre os anos 64 e 65, tendo sido libertado
  da prisão romana, o apóstolo Paulo foi com ele para a ilha de Creta, onde 
 fundou uma comunidade cristã, que confiou a São Tito. Mais tarde, visitou a
  Paulo em Nicópolis. Voltou novamente à Ilha de Creta, onde recebeu uma car
 ta do próprio mestre, Paulo, que figura entre os livros sagrados. Depois, r
 etornou à Roma para se avistar com o apóstolo que o mandou provavelmente ev
 angelizar a Dalmácia, onde seu culto ainda hoje é intenso.\nSegundo a tradi
 ção mais antiga, São Tito permaneceu como bispo de Creta até sua morte, que
  ocorreu em idade avançada, por causa natural e não por martírio.\nSão Tito
  terá conservado a virgindade até a morte.\n
DTSTAMP:20260420T060310Z
DTSTART;TZID=Europe/Lisbon;VALUE=DATE:20210126
DTEND;TZID=Europe/Lisbon;VALUE=DATE:20210127
SEQUENCE:0
TRANSP:OPAQUE
END:VEVENT
END:VCALENDAR