BEGIN:VCALENDAR
VERSION:2.0
PRODID:-//jEvents 2.0 for Joomla//EN
CALSCALE:GREGORIAN
METHOD:PUBLISH
BEGIN:VTIMEZONE
TZID:Europe/Lisbon
BEGIN:STANDARD
DTSTART:20181028T010000
RDATE:20190331T020000
TZOFFSETFROM:+0100
TZOFFSETTO:+0000
TZNAME:Europe/Lisbon WET
END:STANDARD
BEGIN:STANDARD
DTSTART:20191027T010000
RDATE:20200329T020000
TZOFFSETFROM:+0100
TZOFFSETTO:+0000
TZNAME:Europe/Lisbon WET
END:STANDARD
BEGIN:STANDARD
DTSTART:20201025T010000
RDATE:20210328T020000
TZOFFSETFROM:+0100
TZOFFSETTO:+0000
TZNAME:Europe/Lisbon WET
END:STANDARD
BEGIN:DAYLIGHT
DTSTART:20180417T000000
RDATE:20181028T010000
TZOFFSETFROM:+0000
TZOFFSETTO:+0100
TZNAME:Europe/Lisbon WEST
END:DAYLIGHT
BEGIN:DAYLIGHT
DTSTART:20190331T020000
RDATE:20191027T010000
TZOFFSETFROM:+0000
TZOFFSETTO:+0100
TZNAME:Europe/Lisbon WEST
END:DAYLIGHT
BEGIN:DAYLIGHT
DTSTART:20200329T020000
RDATE:20201025T010000
TZOFFSETFROM:+0000
TZOFFSETTO:+0100
TZNAME:Europe/Lisbon WEST
END:DAYLIGHT
END:VTIMEZONE
BEGIN:VEVENT
UID:2c75cdfcf55399cc0d2b5df889c6c33d
CATEGORIES:Santos
SUMMARY:Beata Maria da Encarnação 
DESCRIPTION;ENCODING=QUOTED-PRINTABLE:\n\nBeata Maria da Encarnação nasceu a 1 de fevereiro de 1566 em Paris e fa
 leceu a 18 de abril de 1618 em Pontoise. Era filha de Nicolau Avrillot, Sen
 hor de Champstreaux e de Marie Lhuillier. Beata Maria da Encarnação foi bap
 tizada como Bárbara Avillot.\nEra costume para a nobreza da época, confiar 
 a educação das meninas ou adolescentes a congregações religiosas femininas.
  Assim a beata Maria da Encarnação foi confiada às Irmãs Menores de Nossa S
 enhora da Humildade, residentes de Longchamp. Regressou à casa da família a
 os 14 anos e o seu desejo de fazer-se religiosa não foi autorizado pelos se
 us pais.\nAos 16 anos casou com Pedro Acarie, Visconde de Villemor, Senhor 
 de Montbrost e de Roncenay, proprietário de muitas terras, muito atuante na
  política da corte e cuja influência era tão forte quanto a de sua família,
  homem de costumes irrepreensíveis.\nO casal teve seis filhos. A Beata Mari
 a da Encarnação era uma excelente mãe e esposa, e vivia de acordo com os ma
 ndamentos de Deus, enfrentando os deveres na administração do lar, e coloca
 ndo a família no caminho da santidade. Aos empregados pagava mais do que o 
 salário convencional. Visitava os pobres, viúvas e enfermos e instruía na d
 outrina cristã as crianças. Com o seu bom exemplo a Beata Maria da Encarnaç
 ão influenciava as esposas de outros nobres que eram heréticos, convertendo
  a muitos ao catolicismo.\nBeata Maria da Encarnação era incansável no auxí
 lio aos necessitados, especialmente durante o assédio de Paris pelo rei Hen
 rique IV, em 1590, durante as guerras religiosas em que se enfrentaram os c
 atólicos e os huguenotes, com a intervenção militar dos espanhóis. A beata 
 Maria da Encarnação participou das ações contra a heresia protestante que p
 rocurava estender-se na França. O rei Henrique IV, protestante, após desfaz
 er a Liga Católica à qual o marido da beata Maria da Encarnação pertencia, 
 mandou-o para o exílio e confiscou todos os seus bens. Foram quatro anos de
  várias atribulações financeiras e de aflição de espírito. Porém a beata nã
 o se abateu, tomou a defesa do marido, não se detendo até provar a inocênci
 a dele e reaver todos os bens.\nA casa da Beata Maria da Encarnação torna-s
 e um centro de cultura católica e de promoção e resgate dos valores cristão
 s na sociedade parisiense. Neste mesmo tempo o seu marido, Pedro Acarie, de
 ixa-lhe a administração e pede-lhe que seja ela a encarregar-se dos bens e 
 das visitas inumeráveis que recebem e que vem por sua causa.\nNesse período
  a beata Maria da Encarnação conheceu São Francisco de Sales, (http://www.p
 aroquia-almancil.pt/utilidades/vida-dos-santos/icalrepeat.detail/2018/01/24
 /6302/-/s%C3%A3o-francisco-de-sales.html) o qual aprova a sua atitude e com
 portamento, vindo a tornar-se o seu diretor espiritual.\nA 13 de abril de 1
 598 é anunciado o Édito de Nantes que tolera o protestantismo, causando mui
 to sofrimento aos Acarie (família da beata Maria da Encarnação). Em 1601, b
 eata Maria da Encarnação conhece a vida e obra de Santa Teresa de Jesus (ht
 tp://www.paroquia-almancil.pt/utilidades/vida-dos-santos/icalrepeat.detail/
 2018/10/15/51299/-/santa-teresa-de-jesus.html). Tem visões da santa que lhe
  pede para esforçar-se para trazer à França as Carmelitas Descalças, mesmo 
 que os tempos fossem difíceis para as congregações religiosas e fossem proi
 bidas novas fundações na França. Beata Maria da Encarnação insiste diante d
 o rei e do arcebispo de Paris, mas não consegue nada. Como era mulher espir
 itual e muito conhecida nos círculos intelectuais católicos, Beata Maria da
  Encarnação consultou o seu primo, o futuro cardeal de Berulle, o cartuxo D
 . Beaucosin e o seu diretor espiritual, Andrés Duval, que se tornarão seus 
 apoios. Estes pedem-lhe que espere tempos melhores. Numa nova visão Santa T
 eresa de Jesus volta a insistir, dizendo que para o bem do Carmelo, da Igre
 ja e da França, dariam frutos de santidade.\nCom a ajuda de São Francisco d
 e Sales em 1602 a Beata Maria da Encarnação acolheu as primeiras vocações, 
 obteve a autorização do rei, que tinha por ela uma grande consideração, e e
 m 1603 o papa Clemente VIII enviou-lhe a autorização para a fundação e ela 
 pode construir o primeiro mosteiro carmelita em França.\nEm 29 de agosto de
  1604, seis Carmelitas Descalças espanholas, entre as quais a futura Beata 
 Ana de São Bartolomeu e a uma futura Serva de Deus, Ana de Jesus, chegaram 
 a Paris e no dia 17 de outubro do mesmo ano foi iniciada a vida monástica n
 aquela cidade. Iniciando assim uma forte influência na espiritualidade cató
 lica de seu tempo, a beata Maria da Encarnação teve a felicidade de ver a O
 rdem expandir-se para Pontoise, Dijon, Amiens nos anos 1605/1606, e três da
 s suas filhas ingressarem no Carmelo de Amiens.\nNo ano de 1613 o seu espos
 o adoeceu gravemente e depois de nove dias morreu. Com os filhos criados e 
 sem compromissos para com a família, a beata entra como conversa no Carmelo
  de Amiens onde estavam suas filhas, dia 7 de abril de 1614, tomando o nome
  de Maria da Encarnação.\nBeata Maria da Encarnação viveu a sua vida de cla
 usura com humildade, trabalhando na cozinha, atendendo as irmãs doentes. Te
 ve muitos êxtases e visões que a confortavam nas suas longas doenças e prov
 ações. Manteve-se sempre ativa e preparada para discussões sobre o tema da 
 fé e sempre humilde e afetuosa como simples carmelita de sua comunidade.\nA
  7 de dezembro de 1616 foi transferida para o Carmelo de Pontoise, onde viv
 eria por dois anos. Beata Maria da Encarnação faleceu a 18 de abril de 1618
  com uma infeção pulmonar.\nFoi beatificada pelo Papa Pio VI a 5 de junho d
 e 1791.\n
DTSTAMP:20260420T053227Z
DTSTART;TZID=Europe/Lisbon;VALUE=DATE:20190418
DTEND;TZID=Europe/Lisbon;VALUE=DATE:20190419
SEQUENCE:0
TRANSP:OPAQUE
END:VEVENT
END:VCALENDAR