BEGIN:VCALENDAR
VERSION:2.0
PRODID:-//jEvents 2.0 for Joomla//EN
CALSCALE:GREGORIAN
METHOD:PUBLISH
BEGIN:VTIMEZONE
TZID:Europe/Lisbon
END:VTIMEZONE
BEGIN:VEVENT
UID:a83779b1ee605cbcc461cda95ef86eb7
CATEGORIES:Santos
SUMMARY:São Martinho I
DESCRIPTION;ENCODING=QUOTED-PRINTABLE:São Martinho I, nasceu em Todi (Itália) provavelmente no ano de 590 e falec
 eu a 16 de setembro de 655 em Quersoneso (atual Kherson, Ucrânia). Não se s
 abe muito sobre sua juventude e formação religiosa. \nSão Martinho I foi el
 eito Sumo Pontífice a 13 de maio de 649 e sucedeu ao Papa Teodoro. Assim qu
 e foi eleito São Martinho I passou a dirigir a Igreja com a mão forte da di
 sciplina que o período exigia, pois nessa época, os detentores do poder ach
 avam que podiam interferir na Igreja, como se a doutrina da Igreja devesse 
 submissão ao Estado. São Martinho I assumiu o pontificado mesmo antes da su
 a eleição ter sido referendada pelo imperador Constante II.\nUm ano antes, 
 em 648, o imperador Constante II tinha publicado o documento &ldquo;Tipo&rd
 quo;, que apoiava as teses hereges do cisma dos monotelitas, os quais negav
 am a condição humana de Cristo, o que se opõe às principais raízes do crist
 ianismo. Para barrar a difusão dessa heresia, três meses após sua eleição, 
 o Papa Martinho I convocou, na Basílica de São João de Latrão, um concílio 
 para o qual foram convidados todos os bispos do Ocidente.\nO concílio teve 
 cinco sessões solenes, nas quais foram condenadas, definitivamente, todas a
 s teses monotelitas, provocando a ira do imperador Constante II.\n O impera
 dor ordenou a Olímpio, exarca (autoridade bizantina que governava a penínsu
 la Itálica ou a África, na qualidade de representante do imperador do Orien
 te, após a queda do Império Romano do Ocidente) de Ravena (Itália), que fos
 se a Roma e prendesse o papa Martinho I. Olímpio querendo agradar ao podero
 so imperador, resolveu ir além das ordens e planeou matar São Martinho I. D
 urante o momento da comunhão numa celebração da missa em Santa Maria Maior 
 (Roma, Itália) o escudeiro de Olímpio puxou um punhal para executar o plano
 . Nesse mesmo instante o assassino ficou cego e fugiu apavorado. Impression
 ado, Olímpio aliou-se a São Martinho I e projetou uma luta armada contra Co
 nstantinopla. Mas o Papa Martinho I perdeu a sua defesa militar porque Olím
 pio morreu no ano de 653 com peste.\nAssim o imperador pode cumprir a sua v
 ingança, fazendo com que o novo exarca de Ravena, Teodoro Calíopa, prendess
 e o papa Martinho I, pedindo a sua transferência para que o julgamento se d
 esse em Bósforo, estreito que separa a Europa da Ásia, próximo a Istambul, 
 na Turquia. São Martinho I foi acusado de ter-se apossado ilegalmente do al
 to cargo de sumo pontífice e de haver planeado uma guerra com Olímpio contr
 a Constantinopla. A longa viagem por via marítima, durou quinze meses e foi
  o início de um martírio cruel. Durante as numerosas escalas, a nenhum dos 
 inúmeros fiéis que foram encontrar-se com o Papa Martinho I foi concedido a
 proximar-se dele. Ao prisioneiro São Martinho I não era dada nem água para 
 se lavar. Chegando a Constantinopla a 17 de setembro de 654, o papa Martinh
 o I ficou estendido numa cama na rua pública recebendo os insultos do povo 
 durante um dia inteiro, antes de ser fechado por três meses na prisão Prand
 iária. Depois iniciou-se o longo e exaustivo processo, durante o qual os so
 frimentos foram tão grandes a ponto de o acusado murmurar: &ldquo;Façam de 
 mim o que quiserem; qualquer morte será para mim um benefício&rdquo;.\nHumi
 lhado publicamente, despido e exposto aos rigores do frio, carregado de cor
 rentes, São Martinho I foi fechado na cela reservada aos condenados à morte
 . A 16 de março de 655 fizeram-no partir secretamente para o exílio em Quer
 soneso, na Crimeia, numa viagem que durou dois meses. São Martinho I sofreu
  fome e o seu corpo foi-se enfraquecendo no mais absoluto abandono durante 
 outros quatro meses, até vir a falecer a 16 de setembro de 655.\nFoi durant
 e o papado de São Martinho I que se celebrou pela primeira vez a festa da "
 Virgem Imaculada", a 25 de março. São Martinho I passou mais de três anos, 
 dos seus seis anos de pontificado, no exílio e na prisão. Foi o último papa
  a ser martirizado.\n \nSão Martinho I, rogai por nós!\n \n
DTSTAMP:20260422T002507Z
DTSTART;TZID=Europe/Lisbon;VALUE=DATE:20300413
DTEND;TZID=Europe/Lisbon;VALUE=DATE:20300414
SEQUENCE:0
TRANSP:OPAQUE
END:VEVENT
END:VCALENDAR