BEGIN:VCALENDAR
VERSION:2.0
PRODID:-//jEvents 2.0 for Joomla//EN
CALSCALE:GREGORIAN
METHOD:PUBLISH
BEGIN:VTIMEZONE
TZID:Europe/Lisbon
END:VTIMEZONE
BEGIN:VEVENT
UID:e21a5b5e83b57aa218f3b93f08324c1a
CATEGORIES:Santos
SUMMARY:Santos Roberto, Albérico e Estêvão
DESCRIPTION;ENCODING=QUOTED-PRINTABLE:São Roberto, Santo Albérico e Santo Estêvão Harding foram três Santos funda
 dores da Ordem de Cister.\nPara além destes três santos, hoje também se cel
 ebra todo o grupo de cerca de 20 monges que deixou o Mosteiro de Molesmes e
  se lançou na aventura de fundar um Novo Mosteiro, dando forma à aspiração 
 que habitava nos seus corações. Estes monges pretendiam viver uma vida moná
 stica mais simples e evangélica, segundo a Regra de S. Bento.\n \n\n\n \n
DTSTAMP:20260420T191829Z
DTSTART;TZID=Europe/Lisbon;VALUE=DATE:20240126
DTEND;TZID=Europe/Lisbon;VALUE=DATE:20240127
SEQUENCE:0
TRANSP:OPAQUE
END:VEVENT
END:VCALENDAR