BEGIN:VCALENDAR
VERSION:2.0
PRODID:-//jEvents 2.0 for Joomla//EN
CALSCALE:GREGORIAN
METHOD:PUBLISH
BEGIN:VTIMEZONE
TZID:Europe/Lisbon
END:VTIMEZONE
BEGIN:VEVENT
UID:7904d7fc1308b7c10d39004502d9fdce
CATEGORIES:Santos
SUMMARY:Santo Estanislau
DESCRIPTION;ENCODING=QUOTED-PRINTABLE:Santo Estanislau também é conhecido como Santo Estanislau de Szczepanów nas
 ceu a 26 de julho de 1030 em Szczepanów, Cracóvia, (Polónia) e faleceu a 11
  de abril de 1079 em Cracóvia. Era filho de Wielislas (um dos principais se
 nhores do país) e de Bogna (pertencente a uma ilustre família), ambos eram 
 muito piedosos e caridosos. Os seus pais consideravam o nascimento de Santo
  Estanislau um presente do Céu, pois o seu casamento tinha ficado sem filho
 s, durante trinta anos.\nSanto Estanislau recebeu uma educação primorosa pr
 ocedendo desde criança de forma irrepreensível e dando provas indubitáveis 
 de futura santidade. Santo Estanislau começou por estudar na universidade d
 e Gnesen (Polónia) indo depois completar os seus estudos na universidade de
  Paris onde estudou direito canónico e teologia.\nQuando Santo Estanislau r
 egressou à Polónia, os seus pais já tinham falecido e o santo decidiu entra
 r para o convento, porém antes de entrar no convento Santo Estanislau distr
 ibuiu os seus bens entre os pobres. Santo Estanislau foi depois ordenado sa
 cerdote pelo bispo de Cracóvia, Lamberto Zula, que conhecendo o grande tale
 nto de Santo Estanislau lhe ofereceu o título de Cónego. Neste encargo Sant
 o Estanislau trabalhou até à morte do Bispo Lamberto Zula, quando foi eleit
 o seu sucessor. Santo Estanislau ao saber que tinha sido eleito bispo de Cr
 acóvia recusou perentoriamente aceitar o cargo, sendo necessária uma ordem 
 formal do Papa Alexandre II para que cedesse. Assim foi sagrado bispo no an
 o de 1072, aos 42 anos de idade.\nNesta nova posição, Santo Estanislau, tin
 ha a preocupação única de cumprir bem o seu dever, dirigir bem a Arquidioce
 se, ganhar almas para o Céu e santificar a sua própria alma. A caridade qua
 se excessiva que tinha para com os pobres e necessitados, a dedicação sem l
 imites ao clero e fiéis, a vida austera e modelar, fizeram com que em toda 
 a Arquidiocese fosse conhecido como o &ldquo;Santo Bispo&rdquo;.\nO rei da 
 Polónia era à época Boleslau II, chamado "o generoso" por ter construído mu
 itas igrejas e conventos nas suas terras, ganhando a amizade e o apoio do P
 apa Gregório VII. Mas também era conhecido como "o cruel". Boleslau II era 
 um monarca tirânico e devasso, odiado pela Nação. Não havia quem tivesse ti
 do a coragem fazer-lhe frente à exceção de Santo Estanislau que obtida uma 
 audiência com Boleslau, com todo o respeito e muita clareza, chamou a atenç
 ão do rei para os escândalos que ele dava e pediu-lhe que, por amor de Deus
 , salvasse a sua alma. Boleslau que prometera emendar-se; continuou, porém,
  com a vida escandalosa de antes. Certa vez Boleslau raptou a mulher de um 
 fidalgo e desonrou-a, e Santo Estanislau, recordando as palavras de São Joã
 o Batista (http://www.paroquia-almancil.pt/utilidades/vida-dos-santos/icalr
 epeat.detail/2018/06/24/48194/-/s%C3%A3o-jo%C3%A3o-baptista.html), disse-lh
 e: &ldquo;Não te é lícito ter a mulher de teu próximo&rdquo;. Estas palavra
 s fizeram amadurecer no coração do rei o plano de livrar-se do censor impor
 tuno.\nHavia três anos que um fidalgo tinha vendido com autorização do rei 
 um terreno ao Arcebispo Estanislau e recebido a importância da venda. Boles
 lau, querendo livrar-se de Santo Estanislau, instigou os herdeiros do falec
 ido fidalgo, antigo proprietário do terreno em questão, a processar o Arceb
 ispo por ter-se apossado indevidamente daquela propriedade e prometeu-lhes 
 apoio incondicional naquela demanda. Os herdeiros fizeram intimação a Santo
  Estanislau para que restituísse a propriedade ou fizesse o pagamento da me
 sma. Santo Estanislau protestou contra a injusta acusação, e apresentou tes
 temunhas que não depuseram porque o rei lhes tinha proibido testemunhar.\nP
 erante isto, Santo Estanislau disse: &ldquo;Pois bem, se minhas testemunhas
  não querem ou não podem falar, daqui a três dias hei de apresentar-lhes um
 a, a quem deverão dar crédito: o próprio vendedor&rdquo;. O rei Boleslau ri
 u-se desta ameaça, porque o antigo proprietário tinha morrido havia dois an
 os; no entanto, aceitou o desafio do Arcebispo.\nSanto Estanislau passou tr
 ês dias em oração e jejum. No terceiro dia, logo após a Missa, revestido de
  vestes episcopais, dirigiu-se à sepultura do falecido proprietário, de nom
 e Pedro, mandou que se retirasse a terra e exclamou em alta voz: &ldquo;Ped
 ro, em nome da Santíssima Trindade, ordeno-te que te levantes e dês testemu
 nho da verdade!&rdquo; E eis que, na presença de muito povo, o morto se lev
 anta e acompanha o santo Bispo, até a presença do rei e do conselho.\nEstan
 islau apresentou-o e disse: &ldquo;Aqui está a testemunha, que prometi traz
 er à vossa presença. Ela vos dirá a verdade&rdquo;. Então, Pedro levantou a
  voz e disse bem alto e claro: &ldquo;Sim, senhores. Vendi ao Arcebispo meu
  terreno livremente e recebi a paga à vista. Meus herdeiros não têm razão&r
 dquo;. Dito isto, Pedro voltou à sepultura, para continuar o sono eterno. S
 anto Estanislau foi absolvido e teve sossego por algum tempo.\nContudo o re
 i Boleslau continuou numa vida desregrada até que os grandes do País, cansa
 dos de ver o triste exemplo do rei, se dirigiram ao Arcebispo, com o pedido
  de apresentar ao monarca os seus protestos e, em seu nome, exigir-lhe emen
 da de vida. Santo Estanislau prometeu-lhes procurar o rei e para isto se pr
 eparou pela oração e jejum, durante alguns dias. Depois apresentando-se nov
 amente ao rei, falou-lhe do grande perigo que corria de perder a alma, da c
 ondenação eterna, certa e inevitável, caso não se quisesse converter a Deus
 . Vendo, porém, que tudo era debalde, e o rei recebia as admoestações com m
 ofa e escárnio, ameaçou-o com a excomunhão. De fato, Santo Estanislau excom
 ungou o rei, porque o seu proceder em vez de melhorar, tornava-se cada vez 
 mais escandaloso.\nO tirano rei resolveu, então, que Santo Estanislau tinha
  de morrer. Destacou para este fim um grupo de homens que deviam assassinar
  o Arcebispo na hora da Santa Missa. Efetivamente, os carrascos entraram na
  capela arqui-episcopal, com a intenção de cumprir a ordem régia. Tomados, 
 porém, de um pânico inexplicável, fugiram do lugar e declararam ao rei ser-
 lhes impossível levar efeito a ordem que dera. Boleslau mandou outros homen
 s e assim por três vezes seguidas, sem que conseguissem dar cumprimento à t
 arefa. Por último, o próprio rei se dirige à capela para matar o Arcebispo 
 Estanislau. Santo Estanislau estava a celebrar a Eucaristia quando Boleslau
  entrou e com um golpe terrível de espada, feriu a cabeça do santo Arcebisp
 o, o qual morreu instantaneamente. O tirano, não satisfeito com a obra, ord
 enou que o corpo da vítima fosse arrastado para fora e cortado em pedaços, 
 a fim de que servisse de pasto aos cães.\nA Divina Providência, porém, disp
 ôs contra a vontade do carrasco. Apareceram quatro águias, que se puseram d
 e sentinela e guarda do corpo despedaçado do mártir, que durante a noite em
 anava luzes brilhantes. Alguns pios homens, entre sacerdotes e fiéis, encor
 ajados por aquele prodígio, ousaram, apesar da proibição do rei, recolher o
 s membros do santo que se encontravam espalhados e dos quais emanava um sua
 ve perfume, para sepultá-los à porta da igreja de São Miguel. Deu-se ainda 
 outro milagre: no momento em que os membros do corpo mutilado foram conjunt
 ados, uniram-se perfeitamente, de modo que apareceu o corpo intacto do sant
 o mártir.\nO martírio de Santo Estanislau deu-se a 11 de abril de 1079.\nFo
 i solenemente canonizado em Assis pelo Papa Inocêncio IV, em 17 de agosto d
 e 1253.\nÉ o padroeiro principal da Polónia.\n \nSanto Estanislau, rogai po
 r nós!\n
DTSTAMP:20260422T085222Z
DTSTART;TZID=Europe/Lisbon;VALUE=DATE:20300411
DTEND;TZID=Europe/Lisbon;VALUE=DATE:20300412
SEQUENCE:0
TRANSP:OPAQUE
END:VEVENT
END:VCALENDAR