BEGIN:VCALENDAR
VERSION:2.0
PRODID:-//jEvents 2.0 for Joomla//EN
CALSCALE:GREGORIAN
METHOD:PUBLISH
BEGIN:VTIMEZONE
TZID:Europe/Lisbon
BEGIN:STANDARD
DTSTART:20181028T010000
RDATE:20190331T020000
TZOFFSETFROM:+0100
TZOFFSETTO:+0000
TZNAME:Europe/Lisbon WET
END:STANDARD
BEGIN:STANDARD
DTSTART:20191027T010000
RDATE:20200329T020000
TZOFFSETFROM:+0100
TZOFFSETTO:+0000
TZNAME:Europe/Lisbon WET
END:STANDARD
BEGIN:STANDARD
DTSTART:20201025T010000
RDATE:20210328T020000
TZOFFSETFROM:+0100
TZOFFSETTO:+0000
TZNAME:Europe/Lisbon WET
END:STANDARD
BEGIN:DAYLIGHT
DTSTART:20180328T010000
RDATE:20181028T010000
TZOFFSETFROM:+0000
TZOFFSETTO:+0100
TZNAME:Europe/Lisbon WEST
END:DAYLIGHT
BEGIN:DAYLIGHT
DTSTART:20190331T020000
RDATE:20191027T010000
TZOFFSETFROM:+0000
TZOFFSETTO:+0100
TZNAME:Europe/Lisbon WEST
END:DAYLIGHT
BEGIN:DAYLIGHT
DTSTART:20200329T020000
RDATE:20201025T010000
TZOFFSETFROM:+0000
TZOFFSETTO:+0100
TZNAME:Europe/Lisbon WEST
END:DAYLIGHT
END:VTIMEZONE
BEGIN:VEVENT
UID:1ad536e3838db84cc96cb5870dcd76e3
CATEGORIES:Santos
SUMMARY:São José de Arimateia
DESCRIPTION;ENCODING=QUOTED-PRINTABLE:Poucos são os dados que temos sobre José de Arimateia, contudo o que sabemo
 s sobre ele está escrito na Bíblia. José era de Arimateia, uma cidade da Ju
 deia.\nJosé de Arimateia era um homem rico (Mt 27, 57) e membro ilustre do 
 Sinédrio (Mc 15, 43; Lc 23, 50). José de Arimateia tinha um sepulcro novo c
 avado na rocha, perto do Gólgota, em Jerusalém. Era discípulo de Jesus, mas
 , do mesmo modo que Nicodemos, mantinha-o oculto por temor das autoridades 
 judaicas (Jo 19, 38). Dele diz Lucas que esperava o Reino de Deus e não tin
 ha consentido na condenação de Jesus por parte do Sinédrio (Lc 23, 51). Nos
  momentos cruéis da cruci­ficação não tem medo de ser identificado como seg
 uidor de Cristo e pede a Pilatos o corpo de Jesus (no Evangelho de Pedro 2,
  1; 6, 23-24). Concedida a licença pelo perfeito Pôncio Pilatos, José de Ar
 imateia desprega Jesus Cristo Crucificado, envolve-o num lençol limpo e, co
 m a ajuda de Nicodemos, deposita Jesus no sepulcro que lhe pertencia e que 
 ainda ninguém tinha utilizado. Depois de o fecharem com uma grande pedra vã
 o-se embora (Mt 27, 57-60, Mc 15, 42-46, Lc 23, 50-53 e Jo 19, 38-42). Até 
 aqui chegam os dados históricos.\n\n \nDepois outros dados nos surgem, mas 
 que não sabemos se são ou não reais. Poderão ser fruto da distância tempora
 l ou da imaginação do Homem.\nDiz-se que José de Arimateia era um rico come
 rciante, dono de uma frota de navios que faziam exportação, principalmente 
 de minérios, para toda região da Palestina até a Britânia (Grã-Bretanha). J
 osé de Arimateia apoiava as de Jesus e frequentemente visitava secretamente
  a casa de Simão Pedro (http://www.paroquia-almancil.pt/utilidades/vida-dos
 -santos/icalrepeat.detail/2018/06/29/54822/-/s%C3%A3o-pedro-e-s%C3%A3o-paul
 o.html), à noite, quando Jesus se hospedava lá, conversando com ele por hor
 as.\nNa madrugada em que Jesus foi preso, um emissário convoca José de Arim
 ateia para uma sessão especial no sinédrio, para o julgamento de um nazaren
 o agitador e blasfemo. Ao perceber que é Jesus o prisioneiro, José de Arima
 teia faz menção de defendê-lo, mas desiste, ao perceber que a fúria dos seu
 s companheiros poderia prejudicá-lo. De manhã, quando Jesus está para ser l
 evado ao governador, José adianta-se até o palácio de Pôncio Pilatos (que e
 ra seu amigo pessoal), para explicar que Jesus era inocente e pedir sua lib
 ertação. Entanto, desiste na porta do palácio, com medo de ser descoberto p
 elos seus companheiros.\nJosé de Arimateia volta para casa, deprimido, fech
 a-se no seu quarto e adormece. Em sonho, um anjo diz-lhe que o destino de C
 risto já estava definido, mas que ele (José de Arimateia) ainda poderia aju
 dar. Ao acordar, José de Arimateia volta ao palácio e encontra Pôncio Pilat
 os, descobrindo que Jesus já está crucificado. Ele pede então que o governa
 dor lhe dê plenos direitos sobre o corpo do nazareno. Na época das crucific
 ações, o cadáver dos crucificados, não eram sepultados, sendo os corpos jog
 ados a céu aberto, em local específico, para apodrecer e ser devorado pelos
  animais. Pilatos, mesmo sem entender o pedido do amigo, redige e autêntica
  um documento, dando-lhe plenos poderes sobre o cadáver de Jesus, sob a pro
 teção de um destacamento da guarda romana até o sepultamento e posteriormen
 te vigiando o túmulo para que não fosse violado.\nApós o desaparecimento do
  corpo de Jesus, José de Arimateia é preso, abandonado por amigos e familia
 res, e tem seus bens divididos entre sua família e o Sinédrio. Depois de 13
  anos encarcerado, o novo governador da Judeia, Tibério Alexandre, sabendo 
 de seu histórico e da sua fama de grande comerciante, liberta-o, torna-se s
 eu sócio e patrocina o seu retorno aos negócios de exportação. José de Arim
 ateia então faz nova fortuna, mas aplica os seus ganhos patrocinando as ati
 vidades dos novos cristãos e aproveitando as viagens para trabalhar como mi
 ssionário. Morre numa de suas viagens, devido à idade avançada.\n\n\nAtribu
 i-se também a José de Arimateia o lençol de linho em que Jesus foi envolvid
 o, conhecido como Santo Sudário.\n
DTSTAMP:20260420T053235Z
DTSTART;TZID=Europe/Lisbon;VALUE=DATE:20190329
DTEND;TZID=Europe/Lisbon;VALUE=DATE:20190330
SEQUENCE:0
TRANSP:OPAQUE
END:VEVENT
END:VCALENDAR