BEGIN:VCALENDAR
VERSION:2.0
PRODID:-//jEvents 2.0 for Joomla//EN
CALSCALE:GREGORIAN
METHOD:PUBLISH
BEGIN:VTIMEZONE
TZID:Europe/Lisbon
BEGIN:STANDARD
DTSTART:20181028T010000
RDATE:20190331T020000
TZOFFSETFROM:+0100
TZOFFSETTO:+0000
TZNAME:Europe/Lisbon WET
END:STANDARD
BEGIN:STANDARD
DTSTART:20191027T010000
RDATE:20200329T020000
TZOFFSETFROM:+0100
TZOFFSETTO:+0000
TZNAME:Europe/Lisbon WET
END:STANDARD
BEGIN:STANDARD
DTSTART:20201025T010000
RDATE:20210328T020000
TZOFFSETFROM:+0100
TZOFFSETTO:+0000
TZNAME:Europe/Lisbon WET
END:STANDARD
BEGIN:DAYLIGHT
DTSTART:20180509T000000
RDATE:20181028T010000
TZOFFSETFROM:+0000
TZOFFSETTO:+0100
TZNAME:Europe/Lisbon WEST
END:DAYLIGHT
BEGIN:DAYLIGHT
DTSTART:20190331T020000
RDATE:20191027T010000
TZOFFSETFROM:+0000
TZOFFSETTO:+0100
TZNAME:Europe/Lisbon WEST
END:DAYLIGHT
BEGIN:DAYLIGHT
DTSTART:20200329T020000
RDATE:20201025T010000
TZOFFSETFROM:+0000
TZOFFSETTO:+0100
TZNAME:Europe/Lisbon WEST
END:DAYLIGHT
END:VTIMEZONE
BEGIN:VEVENT
UID:d2513ada0a0aa5416941d879db3fd819
CATEGORIES:Santos
SUMMARY:São João de Ávila
DESCRIPTION;ENCODING=QUOTED-PRINTABLE:São João de Ávila nasceu a 6 de janeiro de 1499 em Almodóvar del Campo, pró
 ximo de Toledo (Espanha) e faleceu a 10 de maio de 1569 em Montilla, Córdob
 a (Espanha).\nSão João de Ávila era filho de Alfonso de Ávila e de Catalina
  Xixón (ou Gijón), um casal rico e piedoso.\nNo ano de 1513 São João de Ávi
 la foi enviado pelos pais para a Universidade de Salamanca a fim de direito
 , mas não sentindo no estudo das leis humanas o estímulo para a sua vida, S
 ão João de Ávila abandonou os estudos e regressou à cidade natal em 1517 se
 m se graduar.\nDepois de voltar para casa, São João de Ávila passou os três
  anos seguintes em reflexão e penitência, passando muitas horas recolhido e
 m frente ao sacrário onde era mantido o Santíssimo Sacramento. Um frade fra
 nciscano que na época passava por Almodóvar del Campo ficou impressionado c
 om a santidade de São João de Ávila e aconselhou-o a terminar os seus estud
 os matriculando-se na Universidade de Alcalá de Henares. São João de Ávila 
 matriculou-se em filosofia e teologia tendo como professor o frade dominica
 no Domingo de Soto. São João de Ávila voltou a abandonar os estudos antes d
 e completar a licenciatura.\nAinda São João de Ávila estudava quando os seu
 s pais faleceram. Tendo sido ordenado sacerdote na primavera de 1526 a sua 
 primeira missa foi celebrada pela alma dos seus pais, na igreja onde estes 
 foram enterrados. Nesse dia, São João de Ávila, vestiu e serviu a refeição 
 a vários mendigos, tendo-se desfeito da fortuna que herdou dos pais (era he
 rdeiro único) destinando-a aos pobres. A partir desse momento São João de Á
 vila passou a viver da caridade dos outros, de quem recebia esmolas para o 
 seu sustento.\nDepois São João de Ávila decidiu partir em trabalho missioná
 rio para o México. Para conseguir embarcar para as recém-descobertas Índias
  Ocidentais, viajou para Sevilha em janeiro de 1527 acompanhado do frade do
 minicano Julián Gardcés, nomeado primeiro bispo de Tlaxcala (a moderna Arqu
 idiocese de Puebla de los Angeles). Enquanto esperava a data da sua partida
  a extrema devoção que São João de Ávila demonstrava na celebração da missa
  e a sua &ldquo;habilidade&rdquo; como catequista e pregador atraíram a ate
 nção de Hernando de Contreras, um padre local, que falou no santo ao arcebi
 spo de Sevilha e inquisidor-geral, Alonso Manrique de Lara.\nO arcebispo Al
 onso Manrique de Lara viu no jovem clérigo São João de Ávila um poderoso in
 strumento para avivar novamente a fé cristã na Andaluzia e, depois de muito
  esforço, conseguiu persuadir São João de Ávila a abandonar sua viagem para
  a América.\nPensa-se que São João de Ávila tenha passado os primeiros anos
  depois de 1526 numa pequena casa em Sevilha, dividindo-a com outro sacerdo
 te (provavelmente Contreras). Nessa casa os sacerdotes reuniram um consider
 ável número de discípulos que, informalmente, viviam como uma comunidade fr
 aternal. Em 1527 e a pedido de Sancha Carrillo (irmã de um destes discípulo
 s), São João de Ávila começou a escrever a sua obra "Audi, filia" (obra que
  continuou a aperfeiçoar até morrer).\nCrê-se que o primeiro sermão de São 
 João de Ávila na Andaluzia tenha ocorrido no dia 22 de julho de 1529. Rapid
 amente se estabeleceu na região a sua reputação de grande orador o que fez 
 com que durante os nove anos de trabalho missionário na região, multidões e
 nchessem as igrejas para escutar São João de Ávila.\nNos seus sermões São J
 oão de Ávila denunciava frequentemente o comportamento da aristocracia loca
 l e fazia insistentes pedidos por reformas. Alguns clérigos sentiram-se inc
 omodados com a atuação como pregador e denunciaram São João de Ávila aos in
 quisidores de Sevilha em 1531. São João de Ávila ficou preso desde o verão 
 de 1531 até julho de 1533 quando passou por um processo, no qual havia cinc
 o denunciantes que o acusavam e 55 defensores.\nPor volta do final de 1534 
 ou no início do ano seguinte, São João de Ávila foi incardinado (fazer part
 e dos sacerdotes da diocese) na Diocese de Córdoba e passou a receber um pe
 queno benefício. A cidade tornou-se a base de onde São João de Ávila comand
 ava os seus discípulos e de onde partia para viagens por toda a Andaluzia, 
 pregando e fundando escolas e universidades em várias cidades, principalmen
 te Granada, Baeza, Montilla e Zafra. De especial importância foi a fundação
  da Universidade de Baeza, estabelecida em 1538 por uma bula papal de Paulo
  III, onde São João de Ávila foi o primeiro reitor. A Universidade de Baeza
  tornar-se-ia o modelo para os futuros seminários e para as escolas jesuíta
 s.\nAcredita-se que nesta época São João de Ávila terá concluído os seus es
 tudos e recebido o título de mestre em teologia, provavelmente em Granada e
 m 1538.\nSão João de Ávila permaneceu em Granada entre 1538 e 1539 no que p
 arece ser alguma espécie de vida comunitária. De forma similar, entre 1546 
 e 1555, viveu com aproximadamente vinte discípulos em Córdoba, novamente da
 ndo a impressão de que tencionava fundar algum tipo oficial de fundação par
 a sacerdotes apostólicos. Porém, a fundação e rápida expansão da Companhia 
 de Jesus tornou o projeto impossível de ser realizado; de 1551 em diante, q
 uando começou a sofrer de problemas de saúde, João passou a incentivar seus
  discípulos a se juntarem aos jesuítas (por volta de trinta aceitaram a sug
 estão).\nA partir deste período, São João de Ávila esteve constantemente do
 ente e passou os seus últimos anos semi-aposentado na cidade de Montilla, n
 a província de Córdoba.\nQuase cego, São João de Ávila morreu a 10 de maio 
 de 1569 em Montilla. A seu pedido, foi enterrado ali mesmo, na Igreja Jesuí
 ta da Encarnação, que atualmente serve como santuário à sua memória.\nSão J
 oão de Ávila foi canonizado a 31 de maio de 1970 pelo Papa Paulo VI.\nSão J
 oão de Ávila rogai por nós!\n
DTSTAMP:20260422T080657Z
DTSTART;TZID=Europe/Lisbon;VALUE=DATE:20190510
DTEND;TZID=Europe/Lisbon;VALUE=DATE:20190511
SEQUENCE:0
TRANSP:OPAQUE
END:VEVENT
END:VCALENDAR