BEGIN:VCALENDAR
VERSION:2.0
PRODID:-//jEvents 2.0 for Joomla//EN
CALSCALE:GREGORIAN
METHOD:PUBLISH
BEGIN:VTIMEZONE
TZID:Europe/Lisbon
BEGIN:STANDARD
DTSTART:20200320T000000
RDATE:20200329T020000
TZOFFSETFROM:+0100
TZOFFSETTO:+0000
TZNAME:Europe/Lisbon WET
END:STANDARD
BEGIN:STANDARD
DTSTART:20201025T010000
RDATE:20210328T020000
TZOFFSETFROM:+0100
TZOFFSETTO:+0000
TZNAME:Europe/Lisbon WET
END:STANDARD
BEGIN:DAYLIGHT
DTSTART:20200329T020000
RDATE:20201025T010000
TZOFFSETFROM:+0000
TZOFFSETTO:+0100
TZNAME:Europe/Lisbon WEST
END:DAYLIGHT
END:VTIMEZONE
BEGIN:VEVENT
UID:fc48e52c93ea6283f45d819dd01cf40c
CATEGORIES:Santos
SUMMARY:São Nicolau de Flüe
DESCRIPTION;ENCODING=QUOTED-PRINTABLE:São Nicolau de Flüe nasceu no ano de 1417 em Flueli, Unterwalden (suiça) e 
 faleceu a 21 de março de 1487 em Sachseln, Suiça. São Nicolau de Flüe, ou B
 ruder Klaus (irmão Klaus), como é conhecido em sua pátria, era filho de cam
 poneses ricos. Os biógrafos dizem que São Nicolau de Flüe era um &ldquo;jov
 em casto, bom, virtuoso, piedoso e sincero, dado à oração, mortificado, e q
 ue cumpria conscienciosamente seus deveres&rdquo;.\nAos 29 anos, São Nicola
 u de Flüe participou na batalha de Ragaz. Quatorze anos mais tarde particip
 ou na chamada guerra de Thurgau. São Nicolau de Flüe demonstrou tanta bravu
 ra nessa guerra, que recebeu uma medalha de ouro. Por sua influência, salvo
 u do furor dos confederados (Antiga Confederação Helvética) o convento domi
 nicano de Santa Catarina, onde os austríacos se tinham refugiado.\nNa guerr
 a São Nicolau de Flüe levava a espada numa das mãos e o terço na outra. Mos
 trou-se sempre um guerreiro corajoso e um cristão misericordioso.\nAos trin
 ta anos e para obedecer aos pais, São Nicolau de Flüe casou-se com Doroteia
  Wyss, filha de agricultores locais. São Nicolau de Flüe e a mulher tiveram
  dez filhos, cinco homens e cinco mulheres. São Nicolau de Flüe dedicou-se 
 inteiramente à educação da numerosa prole, tanto religiosa quanto civil.\nS
 ão Nicolau de Flüe tinha uma profunda devoção à Santíssima Virgem, terna e 
 inflamada, e não havia conversa em que ele não entremeasse frases sobre as 
 excelências, o poder e a bondade dessa terníssima Mãe. São Nicolau de Flüe 
 fazia periodicamente peregrinações aos seus inúmeros santuários.\nMesmo tra
 balhando no campo, o santo Nicolau de Flüe não deixava seu rosário, que apr
 oveitava para rezar em qualquer tempo livre.\nO amor às coisas celestes e a
 lgumas visões que teve, fizeram reavivar em São Nicolau de Flüe o desejo de
  se dedicar exclusivamente a Deus. Estava perto de fazer 50 anos, quando Sã
 o Nicolau de Flüe foi ter com a sua mulher e lhe explicou a vocação que Deu
 s lhe dava, suplicando-lhe liberdade para segui-la. Apesar de terem filhos 
 ainda pequenos Doroteia Wyss aceitou tranquilamente o pedido de São Nicolau
  de Flüe e prometeu terminar de educar os filhos no temor e amor de Deus.\n
 No dia 16 de outubro de 1467, São Nicolau de Flüe apareceu diante dos paren
 tes e amigos descalço, com longa túnica de peregrino, bastão numa das mãos,
  o terço na outra e pedindo perdão por alguma falta involuntária.\nDepois S
 ão Nicolau de Flüe partiu, pensava ir para outro país para estar mais longe
  daquilo que amava. Mas depois, por uma inspiração do alto, São Nicolau de 
 Flüe voltou para uma sua propriedade, onde construiu uma pequena cabana par
 a nela viver entregue à oração e à contemplação.\nSabendo disso o seu irmão
  Pedro foi procurá-lo, resolvido a levá-lo para casa, alegando que poderia 
 morrer de frio ou fome, isolado no terrível inverno suíço. São Nicolau de F
 lüe respondeu-lhe: &ldquo;Saiba, meu irmão, que não morrerei de fome, pois 
 já fazem onze dias que não como e não sinto necessidade de alimento. Tampou
 co morrerei de frio, pois Deus me sustém&rdquo;.\nE assim foi. Desde aquele
  dia até à sua morte, São Nicolau de Flüe não comeu nem bebeu, alimentando-
 se apenas da Sagrada Eucaristia! São Nicolau de Flüe viveu assim por vinte 
 anos até que faleceu a 21de março de 1487.\nSão Nicolau de Flüe foi canoniz
 ado pelo Papa Pio XII em maio de 1947.\n \nSão Nicolau de Flüe rogai por nó
 s!\n
DTSTAMP:20260421T194055Z
DTSTART;TZID=Europe/Lisbon;VALUE=DATE:20210321
DTEND;TZID=Europe/Lisbon;VALUE=DATE:20210322
SEQUENCE:0
TRANSP:OPAQUE
END:VEVENT
END:VCALENDAR