BEGIN:VCALENDAR
VERSION:2.0
PRODID:-//jEvents 2.0 for Joomla//EN
CALSCALE:GREGORIAN
METHOD:PUBLISH
BEGIN:VTIMEZONE
TZID:Europe/Lisbon
BEGIN:STANDARD
DTSTART:20200328T230000
RDATE:20200329T020000
TZOFFSETFROM:+0100
TZOFFSETTO:+0000
TZNAME:Europe/Lisbon WET
END:STANDARD
BEGIN:STANDARD
DTSTART:20201025T010000
RDATE:20210328T020000
TZOFFSETFROM:+0100
TZOFFSETTO:+0000
TZNAME:Europe/Lisbon WET
END:STANDARD
BEGIN:DAYLIGHT
DTSTART:20200329T020000
RDATE:20201025T010000
TZOFFSETFROM:+0000
TZOFFSETTO:+0100
TZNAME:Europe/Lisbon WEST
END:DAYLIGHT
END:VTIMEZONE
BEGIN:VEVENT
UID:aa21cb053200adcb64bf192c2115b646
CATEGORIES:Santos
SUMMARY:São João Clímaco
DESCRIPTION;ENCODING=QUOTED-PRINTABLE:São João Clímaco também é conhecido como João da Escada, João Escolástico e
  João Sinaíta, nasceu por volta do ano 579 na Síria e faleceu a 30 de março
  de 649 no Monte Sinai (Egito). O sobrenome de São João deriva do livro &ld
 quo;Escada do Paraíso&rdquo; do qual é autor e que é uma transliteração lat
 ina do termo grego klímakos, que significa &ldquo;da escada&rdquo;.\nAs inf
 ormações que temos sobre a vida de São João Clímaco são as que constam numa
  hagiografia (descrição da vida de um santo ou beato) escrita por um monge 
 chamado Daniel do mosteiro de Raithu (Sinai do Sul, Egito).\nSão João Clíma
 co foi para o mosteiro de Vatos (atual Mosteiro de Santa Catarina), no mont
 e Sinai, e tornou-se noviço com dezasseis anos. São João Clímaco aprendeu s
 obre a vida espiritual com o mestre já ancião Martírio (superior do mosteir
 o) e passados quatro anos foi admitido como religioso recebendo a tonsura m
 onacal.\nApós a morte do seu mestre Martírio, São João Clímaco, desejando p
 raticar um ascetismo (prática que visa o desenvolvimento espiritual) maior,
  foi para um retiro espiritual aos pés da montanha para levar uma vida de e
 remita. São João Clímaco retirou-se numa cela isolada donde saía apenas aos
  sábados e domingos para participar dos ritos litúrgicos com os confrades. 
 Vivia dos trabalhos das suas próprias mãos. Na cela havia uma grande cruz d
 e madeira, uma mesa e um banco que serviam de cama. São João Clímaco viveu 
 assim isolado por cerca de vinte anos estudando continuamente a vida dos sa
 ntos e tornando-se um dos mais eruditos académicos da igreja. A sua única r
 iqueza era constituída das Sagradas Escrituras e das obras dos Padres da Ig
 reja, especialmente são Gregório Magno traduzido em grego.\nQuando São João
  Clímaco tinha aproximadamente setenta e cinco anos, os monges do Sinai con
 venceram-no a tornar-se o seu hegúmeno (responsável pelos mosteiros). São J
 oão Clímaco aplicou-se de tal modo às suas funções como abade que a sua fam
 a se espalhou e o Papa Gregório, o Grande escreveu-lhe para pedir que o san
 to o incluísse em suas orações. O Papa Gregório enviou-lhe também uma grand
 e quantia de dinheiro para que fosse construído uma hospedagem no Sinai, à 
 qual os peregrinos se deslocavam muito e não tinham local para se hospedar.
 \nPor insistência de um irmão vizinho do mosteiro de Raithu, São João Clíma
 co escreveu a &ldquo;Escada do Paraíso&rdquo; ( &Kappa;&lambda;ί&mu;&alpha;
 &xi;, em grego). Nessa obra, o santo compara o progresso na vida espiritual
  a uma escada, com três partes: a primeira diz respeito ao abandono do mund
 o, a fim de voltar ao estado da infância evangélica; a segunda é um importa
 nte subsídio para o reconhecimento e a cura das chamadas &ldquo;doenças esp
 irituais&rdquo;; a terceira, por sua vez, é propriamente o caminho dos perf
 eitos.\nFaleceu a 30 de março de 649.\n \nSão João Clímaco, rogai por nós!\
 n
DTSTAMP:20260421T194100Z
DTSTART;TZID=Europe/Lisbon;VALUE=DATE:20210330
DTEND;TZID=Europe/Lisbon;VALUE=DATE:20210331
SEQUENCE:0
TRANSP:OPAQUE
END:VEVENT
END:VCALENDAR