BEGIN:VCALENDAR
VERSION:2.0
PRODID:-//jEvents 2.0 for Joomla//EN
CALSCALE:GREGORIAN
METHOD:PUBLISH
BEGIN:VTIMEZONE
TZID:Europe/Lisbon
BEGIN:STANDARD
DTSTART:20171029T010000
RDATE:20180325T020000
TZOFFSETFROM:+0100
TZOFFSETTO:+0000
TZNAME:Europe/Lisbon WET
END:STANDARD
BEGIN:STANDARD
DTSTART:20181028T010000
RDATE:20190331T020000
TZOFFSETFROM:+0100
TZOFFSETTO:+0000
TZNAME:Europe/Lisbon WET
END:STANDARD
BEGIN:STANDARD
DTSTART:20191027T010000
RDATE:20200329T020000
TZOFFSETFROM:+0100
TZOFFSETTO:+0000
TZNAME:Europe/Lisbon WET
END:STANDARD
BEGIN:STANDARD
DTSTART:20201025T010000
RDATE:20210328T020000
TZOFFSETFROM:+0100
TZOFFSETTO:+0000
TZNAME:Europe/Lisbon WET
END:STANDARD
BEGIN:DAYLIGHT
DTSTART:20170329T000000
RDATE:20171029T010000
TZOFFSETFROM:+0000
TZOFFSETTO:+0100
TZNAME:Europe/Lisbon WEST
END:DAYLIGHT
BEGIN:DAYLIGHT
DTSTART:20180325T020000
RDATE:20181028T010000
TZOFFSETFROM:+0000
TZOFFSETTO:+0100
TZNAME:Europe/Lisbon WEST
END:DAYLIGHT
BEGIN:DAYLIGHT
DTSTART:20190331T020000
RDATE:20191027T010000
TZOFFSETFROM:+0000
TZOFFSETTO:+0100
TZNAME:Europe/Lisbon WEST
END:DAYLIGHT
BEGIN:DAYLIGHT
DTSTART:20200329T020000
RDATE:20201025T010000
TZOFFSETFROM:+0000
TZOFFSETTO:+0100
TZNAME:Europe/Lisbon WEST
END:DAYLIGHT
END:VTIMEZONE
BEGIN:VEVENT
UID:1a4a864f6cf088d16fa88bbcca8fdaf2
CATEGORIES:Santos
SUMMARY:São Quirino de Neuss
DESCRIPTION;ENCODING=QUOTED-PRINTABLE:São Quirino de Neuss terá nascido em Roma e faleceu por volta do ano 116 em
  Roma, Itália.\nSão Quirino de Neuss, é de origem romana e pagã, e era um o
 ficial do imperador Trajano II. Ocupou o posto de tribuno (espécie de gover
 nante). No ano de 116, no consulado de Æmilius Æmilianus e Lucius Vetus, o 
 imperador Trajano, voltando de uma campanha vitoriosa contra os partos (pov
 o de origem indo-europeia), soube que o prefeito de Roma, Hermes, tinha aba
 ndonado a religião do império romano para aderir ao cristianismo e que tinh
 a sido batizado pelo Papa Alexandre.\nSabendo disto o imperador Trajano II 
 enviou a Roma o general Aureliano com a missão expressa de parar todos os c
 ristãos, condenando-os à morte se persistissem em sua religião. A ordem foi
  executada, mas Trajano nunca mais voltou a Roma; pois morreu no caminho. A
 driano, filho adotivo de Trajano, sucedeu-o no cargo de imperador e o seu p
 rimeiro ato oficial foi o de confirmar a ordem do seu antecessor, tornando 
 a perseguição a todos os cristãos mais sangrenta.\nEnquanto isso, o general
  Aureliano voltou a Roma e manda prender Hermes (perfeito da cidade) na pri
 são da sua própria casa, de acordo com um costume local, confiado à vigilân
 cia de São Quirino de Neuss. Mais tarde Aureliano consegue prender o Papa A
 lexandre, na prisão estadual.\nSão Quirino de Neuss esforçou-se para que He
 rmes prestasse novamente culto aos deuses romanos, mas este manteve-se firm
 e na sua decisão pelo cristianismo o que fez Quirino começar a duvidar de s
 eus deuses.\nAlém disso, São Quirino tinha uma filha, chamada Balbina que s
 ofria de escrófula (uma forma de tuberculose crónica que desfigura o rosto)
 , o que a impediria de se casar. Duvidando dos deuses romanos São Quirino d
 e Neuss pediu ao Papa Alexandre para curar a sua filha. Levaram então a fil
 ha de São Quirino à presença do Papa e fizeram com que a criança tocasse as
  cordas que seguravam cativo o Papa. Assim que Balbina tocou nas cordas a d
 oença cessou. Este milagre foi decisivo para a conversão de São Quirino, qu
 e foi batizado naquele dia, assim como a sua filha.\nComo se converteu São 
 Quirino foi preso e arrastado até ao tribunal onde foi interrogado. O juiz 
 tenta fazê-lo renunciar à sua fé, mas São Quirino de Neuss manteve-se firme
 . Para tentar dissuadi-lo os carrascos prepararam a tortura; acendem várias
  tochas; quebram-lhe os ossos com pedaços de pau e queimam-no nas chamas da
 s tochas. São Quirino, sustentado pela graça de Deus, permanece calmo. Depo
 is disto, cortaram-lhe as mãos e os pés e por fim decapitaram-no.\nSão Quir
 ino foi morto no dia 30 de março do ano 130 e o seu corpo foi abandonado na
  rua para servir de alimento para os animais. Nessa noite a sua filha Santa
  Balbina (http://www.paroquia-almancil.pt/utilidades/vida-dos-santos/icalre
 peat.detail/2018/03/31/62540/-/santa-balbina.html), levou-o e sepultou-o no
  túmulo de Prétextatus ao longo da Via Appia, onde permaneceu até o ano de 
 758. No ano de 758 o Papa Paulo I transferiu-o com muitos outros, para a Ig
 reja de St. Etienne e Silvère. a qual havia construído.\n São Quirino de Ne
 uss rogai por nós!\n
DTSTAMP:20260420T051140Z
DTSTART;TZID=Europe/Lisbon;VALUE=DATE:20180330
DTEND;TZID=Europe/Lisbon;VALUE=DATE:20180331
SEQUENCE:0
TRANSP:OPAQUE
END:VEVENT
END:VCALENDAR