BEGIN:VCALENDAR
VERSION:2.0
PRODID:-//jEvents 2.0 for Joomla//EN
CALSCALE:GREGORIAN
METHOD:PUBLISH
BEGIN:VTIMEZONE
TZID:Europe/Lisbon
BEGIN:STANDARD
DTSTART:20200123T000000
RDATE:20200329T020000
TZOFFSETFROM:+0100
TZOFFSETTO:+0000
TZNAME:Europe/Lisbon WET
END:STANDARD
BEGIN:STANDARD
DTSTART:20201025T010000
RDATE:20210328T020000
TZOFFSETFROM:+0100
TZOFFSETTO:+0000
TZNAME:Europe/Lisbon WET
END:STANDARD
BEGIN:DAYLIGHT
DTSTART:20200329T020000
RDATE:20201025T010000
TZOFFSETFROM:+0000
TZOFFSETTO:+0100
TZNAME:Europe/Lisbon WEST
END:DAYLIGHT
END:VTIMEZONE
BEGIN:VEVENT
UID:0ed778316fee4a5510d54913df91b3d5
CATEGORIES:Santos
SUMMARY:Santa Marianne Cope
DESCRIPTION;ENCODING=QUOTED-PRINTABLE:Santa Marianne Cope (Santa Marianne de Moloka'i) nasceu a 23 de janeiro 183
 8, em Heppenheim, Grão-Ducado de Hesse (Alemanha) e faleceu a 9 de agosto d
 e 1918 em Kalaupapa, no Havai.\nA sua família emigrou para os Estados Unido
 s no ano de 1839, estabelecendo-se na cidade de Utica, onde permaneceram to
 da a vida.\nSanta Marianne estudou numa escola católica. \nDepois de trabal
 har numa fábrica durante doze anos para ajudar a família, devido à debilida
 de física do seu pai, Santa Marianne Cope entrou para as Irmãs da Ordem Ter
 ceira Regular Franciscana, com sede em Syracusa. Em 1860, professou os seus
  votos, e no ano de 1873 foi eleita Superiora Geral da Congregação.\nNesse 
 mesmo ano (1873), Santa Marianne Cope foi chamada a Honolulu pelo rei do Ha
 vai para cuidar dos leprosos. No ano de 1888 mudou-se para a ilha de Moloka
 'i, também no Havai, onde se situava o asilo dos leprosos de Kaulapapa, par
 a assistir São Damião de Veuster (http://www.paroquia-almancil.pt/utilidade
 s/vida-dos-santos/icalrepeat.detail/2018/05/10/54740/-/s-dami%C3%A3o-de-veu
 ster.html), nos seus últimos meses de vida e para continuar os seus trabalh
 os de assistência aos leprosos.\nCom a morte de Veuster em 1889, Santa Mari
 anne Cope foi chamada para regressar a Syracusa, mas recusou-se a abandonar
  os leprosos e fixou morada em Kaulapapa, onde morreu em 1918.\n\n Foi cano
 nizada a 21 de outubro de 2012 pelo Papa Bento XVI.\n\n\n \n
DTSTAMP:20260420T060337Z
DTSTART;TZID=Europe/Lisbon;VALUE=DATE:20210123
DTEND;TZID=Europe/Lisbon;VALUE=DATE:20210124
SEQUENCE:0
TRANSP:OPAQUE
END:VEVENT
END:VCALENDAR