BEGIN:VCALENDAR
VERSION:2.0
PRODID:-//jEvents 2.0 for Joomla//EN
CALSCALE:GREGORIAN
METHOD:PUBLISH
BEGIN:VTIMEZONE
TZID:Europe/Lisbon
BEGIN:STANDARD
DTSTART:20180325T000000
RDATE:20180325T020000
TZOFFSETFROM:+0100
TZOFFSETTO:+0000
TZNAME:Europe/Lisbon WET
END:STANDARD
BEGIN:STANDARD
DTSTART:20181028T010000
RDATE:20190331T020000
TZOFFSETFROM:+0100
TZOFFSETTO:+0000
TZNAME:Europe/Lisbon WET
END:STANDARD
BEGIN:STANDARD
DTSTART:20191027T010000
RDATE:20200329T020000
TZOFFSETFROM:+0100
TZOFFSETTO:+0000
TZNAME:Europe/Lisbon WET
END:STANDARD
BEGIN:STANDARD
DTSTART:20201025T010000
RDATE:20210328T020000
TZOFFSETFROM:+0100
TZOFFSETTO:+0000
TZNAME:Europe/Lisbon WET
END:STANDARD
BEGIN:DAYLIGHT
DTSTART:20180325T020000
RDATE:20181028T010000
TZOFFSETFROM:+0000
TZOFFSETTO:+0100
TZNAME:Europe/Lisbon WEST
END:DAYLIGHT
BEGIN:DAYLIGHT
DTSTART:20190331T020000
RDATE:20191027T010000
TZOFFSETFROM:+0000
TZOFFSETTO:+0100
TZNAME:Europe/Lisbon WEST
END:DAYLIGHT
BEGIN:DAYLIGHT
DTSTART:20200329T020000
RDATE:20201025T010000
TZOFFSETFROM:+0000
TZOFFSETTO:+0100
TZNAME:Europe/Lisbon WEST
END:DAYLIGHT
END:VTIMEZONE
BEGIN:VEVENT
UID:4718aeb7b03a11929b1d3452b4fc67e5
CATEGORIES:Santos
SUMMARY:São Ludgero de Münster
DESCRIPTION;ENCODING=QUOTED-PRINTABLE:São Ludgero de Münster nasceu por volta do ano 742 em Zuilen, próximo de Ut
 recht (Países Baixos) e faleceu a 26 de março de 809 em Billerbeck, região 
 de Münster, Alemanha. São Ludgero de Münster era filho de Thiadgrim e Liafb
 urg e irmão dos santos Gerburgis e Hildegrin. Os seus pais eram cristãos de
  ascendência nobre.\nDesde pequeno que São Ludgero de Münster manifestava g
 rande inclinação para o estudo e para o sacerdócio. Os seus pais, que eram 
 religiosos, observando esta vocação, confiaram o filho aos cuidados do abad
 e S. Gregório, sucessor de São Bonifácio, no convento de Utrecht.\nEm 753 S
 ão Ludgero de Münster viu o grande apóstolo da Alemanha, São Bonifácio (htt
 p://www.paroquia-almancil.pt/utilidades/vida-dos-santos/icalrepeat.detail/2
 018/06/05/58686/-/s%C3%A3o-bonif%C3%A1cio.html), cujo martírio lhe causou u
 ma profunda impressão. Então São Ludgero de Münster pediu para ser enviado 
 para a Escola da Catedral de Utrecht (Martinsstift), fundada por São Gregór
 io de Utrecht em 756 ou 757.\nNo ano de 767 Gregório de Utrecht, que não qu
 eria receber a consagração episcopal, enviou Alubert, a York, a fim de ser 
 consagrado bispo. São Ludgero de Münster acompanhou-o, a fim de ser ordenad
 o diácono e estudar com Alcuíno de Iorque, mas depois de um ano retornou a 
 Utrecht. Algum tempo depois foi concedida a São Ludgero de Münster nova opo
 rtunidade de continuar os seus estudos na mesma escola. São Ludgero de Müns
 ter tornou-se então amigo de Alcuíno de Iorque e seu discípulo.\nEm 772, qu
 ando os frísios foram expulsos da Inglaterra, São Ludgero de Münster voltou
  com Alcuíno para o continente. São Ludgero de Münster foi ordenado sacerdo
 te a 7 de julho de 777 em Colónia (Alemanha). De lá seguiu imediatamente pa
 ra a Frísia, onde trabalhou durante sete anos como missionário, reerguendo 
 a obra de São Bonifácio, tão barbaramente destruída pelos frisões pagãos.\n
 Em 784 Viduquind, líder dos saxões, persuadiu os frísios a expulsar os miss
 ionários, queimar as igrejas e retornar aos deuses pagãos. São Ludgero de M
 ünster escapou com os seus discípulos, e em 785 visitou Roma, onde foi bem-
 recebido pelo Papa Adriano I. De Roma, São Ludgero de Münster seguiu para a
  Abadia do Monte Cassino, onde viveu de acordo com a Regra de São Bento, ve
 stindo o hábito de monge sem, contudo, emitir os votos.\nA notícia da submi
 ssão de Viduquind e a chegada de Carlos Magno a Monte Cassino em 787 pusera
 m fim ao retiro meditativo de São Ludgero de Münster. \nSão Ludgero de Müns
 ter voltou para a Frísia e pregou o Evan­gelho em Heligoland. Em 796 princi
 piou a missão em Mimigard, na Westfalia, onde poucos anos depois fundou um 
 grande mosteiro. Este mosteiro tornou-se tão importante, que ao seu lado a 
 antiga cidade Mimigard quase desaparecia. O nome de Mimigard caiu em desuso
 , dando lugar ao de Monasterium, nome este que, adaptado ao idioma germânic
 o, se transformou em Münster.\nSão Ludgero de Münster fundou várias igrejas
  e escolas, criou novas paróquias e entregou-as aos sacerdotes que ele mesm
 o formara. Retomou a evangelização na Frísia, realizando o seu sonho de con
 tribuir para a conversão de sua pátria, a Holanda, e fundar um mosteiro ben
 editino, em Werden, antes de morrer.\nSão Ludgero de Münster faleceu a 26 d
 e março de 809.\n \nSão Ludgero de Münster rogai por nós!\n
DTSTAMP:20260422T100619Z
DTSTART;TZID=Europe/Lisbon;VALUE=DATE:20190326
DTEND;TZID=Europe/Lisbon;VALUE=DATE:20190327
SEQUENCE:0
TRANSP:OPAQUE
END:VEVENT
END:VCALENDAR