BEGIN:VCALENDAR
VERSION:2.0
PRODID:-//jEvents 2.0 for Joomla//EN
CALSCALE:GREGORIAN
METHOD:PUBLISH
BEGIN:VTIMEZONE
TZID:Europe/Lisbon
END:VTIMEZONE
BEGIN:VEVENT
UID:71488723df18c514e3339fc28f79b0d3
CATEGORIES:Santos
SUMMARY:Santa Catarina da Suécia
DESCRIPTION;ENCODING=QUOTED-PRINTABLE:Santa Catarina da Suécia ou Catarina de Vadstena nasceu no ano de 1331 ou 1
 332 e faleceu a 24 de março de 1381 em Vadstena (Suécia). Santa Catarina er
 a a quarta dos oito filhos de Ulphon, Príncipe da Nerícia, e de Santa Brígi
 da (http://www.paroquia-almancil.pt/utilidades/vida-dos-santos/icalrepeat.d
 etail/2018/07/23/63200/-/santa-br%C3%ADgida.html).\nEm casa, Santa Catarina
  da Suécia recebeu educação e formação muito sólida com base cristã. Com ap
 enas sete anos, foi levada para as Irmãs do convento de Risberg, para ser i
 nstruída na ciência e na virtude. As Irmãs do convento de Risberg souberam 
 desenvolver totalmente a vocação de Santa Catarina da Suécia, cristalizando
  os ensinamentos cristãos que já vinha recebendo desde o berço. \nAos 13 an
 os, o seu pai quis que Santa Catarina da Suécia contraísse matrimónio, com 
 um jovem da corte sueca, chamado Edgard. Edgard era um jovem, cristão fervo
 roso, porém, doente. Por isso, aceitou um voto de castidade que a sua espos
 a Santa Catarina da Suécia tinha feito antes mesmo de se casar. Edgard adot
 ou também tal voto em sua vida e os dois passaram a viver como irmãos. Mais
  tarde, quando a doença de Edgard se agravou e ele ficou paralítico Santa C
 atarina da Suécia continuou a cuidar dele, dedicando-lhe ainda mais carinho
 , amor e generosidade. \nQuando o pai de Santa Catarina da Suécia faleceu, 
 a sua mãe Santa Brígida decidiu dedicar-se totalmente à vida religiosa. Viú
 va, Santa Brígida mudou-se para Roma a fim de ficar mais perto dos lugares 
 de devoção e socorrer os peregrinos suecos que para lá se dirigiam. Santa C
 atarina da Suécia pediu então autorização ao seu marido Edgard para ir a Ro
 ma visitar a mãe. Com permissão do marido, Santa Catarina foi juntar-se à s
 ua mãe. Quando as duas santas se encontravam em Roma, Santa Catarina recebe
 u a notícia que Edgard havia falecido na Suécia.\nAinda jovem, bela e rica,
  surgiram vários pretendentes para esposá-la. Como Santa Catarina da Suécia
  recusou todas as propostas, um dos pretendentes quis sequestrá-la para faz
 ê-la casar-se à força. Um dia em que Santa Catarina da Suécia foi com algum
 as senhoras piedosas à igreja de São Sebastião, o tal homem cercou-a no seu
  caminho, pretendendo levá-la. Mas subitamente surgiu um cervo no caminho, 
 que distraiu a atenção do sequestrador, e Santa Catarina pode fugir. O mesm
 o homem noutro dia quando Santa Catarina ia com sua mãe à igreja de São Lou
 renço, fora dos muros da cidade, tentou novamente sequestrá-la. Mas no mesm
 o instante ficou cego. Reconhecendo o justo castigo recebido, pediu a ambas
  as santas que o perdoassem e que rezassem por ele a Deus para que recupera
 sse a vista, o que viria a acontecer.\nOutro perigo ocorreu durante uma per
 egrinação das duas santas a Assis, para visitar a famosa igreja da Porciúnc
 ula. Parando numa hotelaria, um grupo de bandidos combinou assaltar as duas
  senhoras. No mesmo instante ouviu-se uma grande comoção na parte de fora: 
 eram polícias que estavam à procura dos malfeitores. Estes fugiram como pud
 eram. Mas no dia seguinte cercaram-nas na estrada, e quando iam tocá-las, t
 odos ficaram cegos. Desta vez, como os bandidos não mostraram sinais de arr
 ependimento, não foram curados pelas santas, que seguiram seu caminho.\nJá 
 viúvas Santa Brígida e Santa Catarina, vestiram o hábito de religiosas, fiz
 eram os votos e não mais se separaram. Santa Catarina acompanhou, trabalhou
  e incrementou todo o trabalho de evangelização e caridade que a sua mãe de
 senvolvia. As duas fundaram o mosteiro de Vadstena, na Suécia. Nele, criara
 m e instalaram a Ordem de São Salvador. Santa Brígida foi abadessa e as fre
 iras de lá passaram a ser são chamadas de brigidinas.\nEm 1372 Santa Catari
 na e seu irmão Birger foram com a mãe em peregrinação à Terra Santa. Mas, q
 uando chegaram a Jerusalém, Santa Brígida adoeceu. Ao voltar a Roma, Santa 
 Brígida faleceu. Santa Catarina levou o corpo da mãe de volta para a Suécia
  onde foi sepultado no mosteiro de Vadstena.\nSanta Catarina foi eleita a n
 ova abadessa do convento. Santa Catarina da Suécia viveu e dirigiu o conven
 to que sua mãe fundou até 1375, quando regressou a Roma para promover sua c
 anonização. Santa Catarina ficou em Roma por cinco anos, morando num conven
 to. Ali, foi comprovada sua grande disciplina, seu senso de amor e caridade
  fraterna e sua humildade no trato com todos, especialmente necessitados e 
 doentes. No ano de 1378 Santa Catarina conseguiu a ratificação na aprovação
  das regras da ordem brigidina.\nSanta Catarina voltou para a Suécia sendo 
 portadora de uma doença grave. Tinha, então, cinquenta anos. Santa Catarina
  da Suécia faleceu no dia 24 de março de 1381.\nFoi canonizada no ano de 14
 84, pelo Papa Inocente VIII.\n \nSanta Catarina da Suécia, rogai por nós!\n
DTSTAMP:20260423T080932Z
DTSTART;TZID=Europe/Lisbon;VALUE=DATE:20270324
DTEND;TZID=Europe/Lisbon;VALUE=DATE:20270325
SEQUENCE:0
TRANSP:OPAQUE
END:VEVENT
END:VCALENDAR