BEGIN:VCALENDAR
VERSION:2.0
PRODID:-//jEvents 2.0 for Joomla//EN
CALSCALE:GREGORIAN
METHOD:PUBLISH
BEGIN:VTIMEZONE
TZID:Europe/Lisbon
END:VTIMEZONE
BEGIN:VEVENT
UID:6559c62dec32a8f693ab3476a68c29f9
CATEGORIES:Santos
SUMMARY:Beato Óscar Romero
DESCRIPTION;ENCODING=QUOTED-PRINTABLE:Beato Óscar Romero nasceu no dia 15 de agosto de 1917 em Ciudad Barrios, Sa
 n Miguel (El Salvador) e foi assassinado no dia 24 de março de 1980 em San 
 Salvador (capital do país El Salvador). O Beato Óscar Arnulfo Romero Galdám
 ez nasceu no seio duma família de origens humildes.\nNo ano de 1931 o beato
  Óscar Romero ingressou no Seminário Menor de San Miguel, onde ficou conhec
 ido como 'O menino da flauta', pela sua habilidade em utilizar uma flauta d
 e bambu que herdou do pai. Em 1937, Óscar Romero ingressou no Seminário Mai
 or San José de la Montaña, em San Salvador, e sete meses depois, viajou par
 a Roma a fim de estudar teologia. Em Roma, Óscar Romero presenciou as calam
 idades da Segunda Guerra Mundial.\nÓscar Romero foi ordenado sacerdote a 4 
 de abril de 1942 na cidade de Roma (Itália).Retornou a El Salvador, na funç
 ão de pároco. Era um sacerdote generoso e atuante: visitava os doentes, lec
 ionava religião nas escolas, foi capelão do presídio; os pobres carentes fa
 ziam fila na porta de sua casa paroquial, pedindo e recebendo ajuda. Durant
 e 26 anos, na função de vigário, o padre Óscar Romero conheceu a miséria pr
 ofunda que assolava o seu pequeno país.\nÓscar Romero foi nomeado bispo aux
 iliar de San Salvador a 21 de junho de 1970, e em 15 de outubro 1974, bispo
  de Santiago de María. Três anos depois a 3 de fevereiro de 1977, Óscar Rom
 ero foi nomeado arcebispo de San Salvador, chegando à capital com fama de c
 onservador. No fundo Óscar Romero era um homem do povo, simples, de profund
 a sensibilidade para com os sofrimentos da maioria, de firme perspicácia al
 iada à coragem de decisão.\nEm março de 1977, um padre seu amigo, Rutilio G
 rande, foi assassinado junto com dois camponeses. Esse incidente, transform
 ou Óscar Romero, que passou a denunciar as injustiças sociais por meio da r
 ádio católica Ysax e do semanário Orientación. Por isso, chegou a ser conhe
 cido como "A voz dos sem voz&rdquo;.\nNas suas homilias dominicais o arcebi
 spo Óscar Romero denunciava as numerosas violações de direitos humanos em E
 l Salvador e manifestou publicamente sua solidariedade com as vítimas da vi
 olência política, no contexto da Guerra Civil de El Salvador.\nNo ano de 19
 79, o presidente do país foi deposto pelo golpe militar. A ditadura instalo
 u-se no país e, pouco a pouco, a violência aumentou. Reinou o caos político
 , económico e institucional no país. De janeiro a março de 1980 foram assas
 sinados 1015 salvadorenhos. Os responsáveis pertenciam às forças de seguran
 ça e às organizações conservadoras do regime militar instalado no país. Nes
 sa ocasião, dois sacerdotes foram assassinados violentamente por defenderem
  os camponeses, que foram pedir abrigo em suas paróquias. Dom Romero teve q
 ue se posicionar e, de pronto, colocou-se no meio do conflito. Não para aum
 entá-lo, mas para ajudar a resolvê-lo.\nDuas semanas antes de sua morte, 20
 0 sargentos, cabos e soldados, enviaram ao arcebispo Óscar Romero uma carta
 , pedindo-lhe que falasse com o Alto Comando para que não os obrigasse a ma
 tar os seus próprios conterrâneos, companheiros e os pequenos agricultores.
  O Alto Comando, irritado, exigiu do Arcebispo os nomes dos assinantes. Dom
  Romero não apenas se recusou a dar os nomes, como convocou os soldados a d
 esobedecerem ao Alto Comando: &ldquo;Sigam a vossa consciência. A voz de De
 us é mais poderosa que a obediência ao Exército.&rdquo;\nEssa afirmação de 
 Dom Óscar Romero não caiu bem junto daqueles a quem o arcebispo criticava. 
 No dia 24 de março de 1980, enquanto celebrava a missa na capela do Hospita
 l da Divina Providência, em El Salvador, Dom Romero foi fuzilado, por um at
 irador de elite do exército salvadorenho.\nÓscar Romero foi beatificado no 
 dia 23 de maio de 2015. No dia 7 de março de 2018 o Papa Francisco assinou 
 um decreto reconhecendo um milagre atribuído à intercessão de Óscar Romero,
  o que conduzirá à sua canonização.\n
DTSTAMP:20260422T003825Z
DTSTART;TZID=Europe/Lisbon;VALUE=DATE:20220324
DTEND;TZID=Europe/Lisbon;VALUE=DATE:20220325
SEQUENCE:0
TRANSP:OPAQUE
END:VEVENT
END:VCALENDAR