BEGIN:VCALENDAR
VERSION:2.0
PRODID:-//jEvents 2.0 for Joomla//EN
CALSCALE:GREGORIAN
METHOD:PUBLISH
BEGIN:VTIMEZONE
TZID:Europe/Lisbon
BEGIN:STANDARD
DTSTART:20180322T000000
RDATE:20180325T020000
TZOFFSETFROM:+0100
TZOFFSETTO:+0000
TZNAME:Europe/Lisbon WET
END:STANDARD
BEGIN:STANDARD
DTSTART:20181028T010000
RDATE:20190331T020000
TZOFFSETFROM:+0100
TZOFFSETTO:+0000
TZNAME:Europe/Lisbon WET
END:STANDARD
BEGIN:STANDARD
DTSTART:20191027T010000
RDATE:20200329T020000
TZOFFSETFROM:+0100
TZOFFSETTO:+0000
TZNAME:Europe/Lisbon WET
END:STANDARD
BEGIN:STANDARD
DTSTART:20201025T010000
RDATE:20210328T020000
TZOFFSETFROM:+0100
TZOFFSETTO:+0000
TZNAME:Europe/Lisbon WET
END:STANDARD
BEGIN:DAYLIGHT
DTSTART:20180325T020000
RDATE:20181028T010000
TZOFFSETFROM:+0000
TZOFFSETTO:+0100
TZNAME:Europe/Lisbon WEST
END:DAYLIGHT
BEGIN:DAYLIGHT
DTSTART:20190331T020000
RDATE:20191027T010000
TZOFFSETFROM:+0000
TZOFFSETTO:+0100
TZNAME:Europe/Lisbon WEST
END:DAYLIGHT
BEGIN:DAYLIGHT
DTSTART:20200329T020000
RDATE:20201025T010000
TZOFFSETFROM:+0000
TZOFFSETTO:+0100
TZNAME:Europe/Lisbon WEST
END:DAYLIGHT
END:VTIMEZONE
BEGIN:VEVENT
UID:988f38a1d94e5eedcdc7119e5b690972
CATEGORIES:Santos
SUMMARY:São Toríbio de Mongrovejo
DESCRIPTION;ENCODING=QUOTED-PRINTABLE:São Toríbio de Mongrovejo ou Turíbio de Mongrovejo  nasceu a 18 de novembro
  de 1538 Mayorga, Valladolid (Espanha) e faleceu a 23 de março 1606 em Saña
 , Peru. São Toríbio de Mongrovejo nasceu no seio de uma família nobre e ric
 a. Estudou em Valadolid, Salamanca e Santiago de Compostela, licenciou-se e
 m direito e, como advogado, teve participações na inquisição. Desde jovem, 
 a sua vida era pautada pela honestidade e justiça.\nQuando tinha 40 anos e 
 era presidente do Tribunal de Granada quando o rei Felipe II pediu ao Papa 
 Gregório XIII que nomeasse São Toríbio de Mongrovejo arcebispo de Lima.\nAs
 sim quase que de um dia para o outro, elevou-se um simples leigo à dignidad
 e de bispo da Santa Igreja. São Toríbio de Mongrovejo era um leigo e recebe
 u as ordens menores em quatro domingos consecutivos, sendo ordenado sacerdo
 te poucas semanas e, por fim, sagrado bispo de Lima, no Peru. Foi dessa man
 eira, aparentemente improvisada, que nasceu um dos maiores apóstolos da Amé
 rica Latina.\nO bispo Dom Toríbio chegou a Lima no ano de 1581 e ficou esta
 rrecido com a miséria material e espiritual em que os índios viviam. São To
 ríbio de Mongrovejo começou por aprender a língua desses índios, depois com
 eçou a defendê-los das arbitrariedades dos colonizadores, que os tratavam c
 omo animais. Por isso, Dom Toríbio passou a ser venerado pelos fiéis. Todos
  o viam como um defensor da justiça, contra os opressores europeus.\nCom o 
 apoio de todo o povo indígena, São Toríbio de Mongrovejo organizou inúmeras
  comunidades na sua diocese. Depois disso, realizou assembleias e até mesmo
  sínodos, isto é, reunião com todos os bispos em atividade na América Espan
 hola. Assim, todos foram convocados para a evangelização.\nSão Toríbio de M
 ongrovejo realizou e coordenou dez concílios da diocese e três concílios pr
 ovinciais. Esses eventos formaram a principal estrutura organizacional da I
 greja Católica da América espanhola que dura até hoje (2018)\nO Sínodo Prov
 incial de 1582 realizado em Lima ganhou destaque. Os historiadores chegam m
 esmo a compará-lo ao Concílio de Trento dada a sua importância.Conta-se que
  neste sínodo, com fina ironia, São Toríbio de Mongrovejo desafiou os espan
 hóis, que se consideravam tão inteligentes, a aprenderem uma nova língua, a
  dos índios.\nNo ano de 1594, Dom Toríbio já tinha percorrido quinze mil qu
 ilómetros em missão pela América Espanhola. Ensinava, pregava, convertia, d
 evolvia dignidade e administrava os sacramentos aos índios. Até este ano, s
 egundo os livros das paróquias, tinha administrado a crisma a sessenta mil 
 fiéis. São Toríbio de Mongrovejo crismou três santos: Santa Rosa de Lima (h
 ttp://www.paroquia-almancil.pt/utilidades/vida-dos-santos/icalrepeat.detail
 /2018/08/23/18685/-/santa-rosa-de-lima.html), São Francisco Solano (http://
 www.paroquia-almancil.pt/utilidades/vida-dos-santos/icalrepeat.detail/2018/
 07/14/63036/-/s%C3%A3o-francisco-solano.html) e São Martinho de Porres (htt
 p://www.paroquia-almancil.pt/utilidades/vida-dos-santos/icalrepeat.detail/2
 018/11/03/37213/-/s%C3%A3o-martinho-de-porres.html).\nSão Toríbio fundou o 
 primeiro seminário instituído nas Américas.\nPouco tempo antes de sua morte
 , São Toríbio de Mongrovejo doou todas as suas roupas, até mesmo as do próp
 rio corpo e doou aos pobres e àqueles que trabalhavam ao seu serviço. Este 
 gesto resumiu o comportamento de toda sua vida. São Toríbio de Mongrovejo m
 orreu, no decorrer duma visita pastoral, no dia 23 de março do ano 1606 em 
 Sanã, Peru.\nSão Toríbio de Mongrovejo foi canonizado pelo Papa Bento XIII,
  em 1726. Na ocasião, o Papa declarou São Turíbio de Mongrovejo como o Após
 tolo e Padroeiro do Peru.\n \nSão Toríbio de Mongrovejo rogai por nós!\n
DTSTAMP:20260420T030856Z
DTSTART;TZID=Europe/Lisbon;VALUE=DATE:20190323
DTEND;TZID=Europe/Lisbon;VALUE=DATE:20190324
SEQUENCE:0
TRANSP:OPAQUE
END:VEVENT
END:VCALENDAR