BEGIN:VCALENDAR
VERSION:2.0
PRODID:-//jEvents 2.0 for Joomla//EN
CALSCALE:GREGORIAN
METHOD:PUBLISH
BEGIN:VTIMEZONE
TZID:Europe/Lisbon
END:VTIMEZONE
BEGIN:VEVENT
UID:8fa832e2e0153a4f729b38efca3c8141
CATEGORIES:Santos
SUMMARY:Trânsito de São Bento
DESCRIPTION;ENCODING=QUOTED-PRINTABLE:Enquanto no calendário romano moderno, se celebra um dia comum ou da Quares
 ma (dependendo do ano) na Ordem de São Bento celebra-se hoje o Trânsito de 
 São Bento. \nO Trânsito de São Bento é celebrado na Ordem de São Bento - OS
 B (os beneditinos), na Ordem Cisterciense &ndash; OCist (os cistercienses) 
 e na Ordem Cisterciense da Estrita Observância &ndash; OCSO (os trapistas).
 \nDe fato, o dia 21 de março é o dia da morte de S. Bento (http://www.paroq
 uia-almancil.pt/utilidades/vida-dos-santos/icalrepeat.detail/2018/07/11/579
 46/-/s%C3%A3o-bento.html), isto é, o seu trânsito ao céu. Por esse motivo, 
 desde muito cedo o calendário romano celebrou a festa de São Bento nesse di
 a. Contudo existia nalguns mosteiros e regiões, o hábito (ainda mais antigo
 ) de se celebrar o santo a 11 de julho.\nNo Missal Romano até 1962 São Bent
 o era comemorado a 21 de março, no entanto em 1969 aquando da reforma do Pa
 pa Paulo VI, S. Bento passou a ser celebrado a 11 de julho. \nOs beneditino
 s, cistercienses e trapistas (todos seguidores da regra de S. Bento), para 
 além de celebrarem São Bento a 11 de julho mantiveram a festividade de 21 d
 e março também. Assim temos duas datas para o mesmo santo; uma propriamente
  celebrando o santo, e outra a sua morte. \nIsso acontece porque os calendá
 rios das Ordens e congregações podem ser mantidos.\n
DTSTAMP:20260422T010853Z
DTSTART;TZID=Europe/Lisbon;VALUE=DATE:20220321
DTEND;TZID=Europe/Lisbon;VALUE=DATE:20220322
SEQUENCE:0
TRANSP:OPAQUE
END:VEVENT
END:VCALENDAR