BEGIN:VCALENDAR
VERSION:2.0
PRODID:-//jEvents 2.0 for Joomla//EN
CALSCALE:GREGORIAN
METHOD:PUBLISH
BEGIN:VTIMEZONE
TZID:Europe/Lisbon
END:VTIMEZONE
BEGIN:VEVENT
UID:8c930cff99cd40bd1928c50a8df9c198
CATEGORIES:Santos
SUMMARY:Clemente de Dunblanne
DESCRIPTION;ENCODING=QUOTED-PRINTABLE:Pensa-se que Clemente de Dunblane terá nascido na Escócia, contudo a data é
  desconhecida. Veio a falecer em 1258 em Dunblane (Escócia). Não há informa
 ções fidedignas sobre as origens ou família de Clemente de Dunblane. Sabe-s
 e que Clemente de Dunblane foi admitido na Ordem dos Pregadores (dominicano
 s) em Paris no ano de 1219. Embora não esteja confirmado, considera-se que 
 Clemente de Dunblane foi ordenado sacerdote em 1221.\nClemente de Dunblane 
 foi reconhecido mais tarde pela sua capacidade de compreender e falar idiom
 as.\nClemente de Dunblane foi sagrado bispo a 4 de setembro de 1233 por Wil
 liam de Malveisin, bispo de St. Andrews. O bispo Clemente ficou à frente da
  pequena diocese de Dunblane. A sua posição como bispo de Dunblane proporci
 onou-lhe a oportunidade de participar de vários assuntos nacionais e intern
 acionais. Participou em 1241, no capítulo geral da Ordem cisterciense. Em 1
 249, Clemente de Dunblane fez parte do movimento para a canonização da rain
 ha Margarida da Escócia (http://www.paroquia-almancil.pt/utilidades/vida-do
 s-santos/icalrepeat.detail/2018/11/17/36710/-/santa-margarida-da-esc%C3%B3c
 ia.html), um dos antepassados dos reis escoceses do seu tempo. Clemente de 
 Dunblane foi encarregado de investigar a sua santidade e no ano seguinte a 
 rainha foi canonizada. Em 1247, o Papa Inocêncio IV concedeu a Clemente de 
 Dunblane a nomeação de cobrador de impostos papal. Clemente foi encarregado
  de coletar uma vigésima parte de todas as receitas da igreja no Reino da E
 scócia a fim de financiar uma nova cruzada. A nomeação de Clemente de Dunbl
 ane faz parte da iniciativa de angariação de fundos realizada pela hierarqu
 ia eclesiástica em toda a cristandade ocidental.\nClemente de Dunblane fale
 ceu no ano de 1258. Depois da sua morte Walter Bower, escreveu: &ldquo;Clem
 ente, bispo de Dunblane, morreu; aquele extraordinário membro da Ordem dos 
 Pregadores, um homem eloquente na tradução de várias línguas, poderoso no d
 iscurso e na ação aos olhos de Deus e dos homens. Ele achou a igreja da cat
 edral de sua diocese reduzida, através do descuido de seus predecessores, a
  um declínio em que os escritórios divinos eram celebrados apenas três veze
 s por semana, como se fosse uma capela rural. Ele reconstruiu-o para ser um
  santuário sagrado, enriquecido com terras e bens e aumentou seu prestígio,
  adicionando vantagens e canhonarias&rdquo;.\n
DTSTAMP:20260424T102731Z
DTSTART;TZID=Europe/Lisbon;VALUE=DATE:20280319
DTEND;TZID=Europe/Lisbon;VALUE=DATE:20280320
SEQUENCE:0
TRANSP:OPAQUE
END:VEVENT
END:VCALENDAR