BEGIN:VCALENDAR
VERSION:2.0
PRODID:-//jEvents 2.0 for Joomla//EN
CALSCALE:GREGORIAN
METHOD:PUBLISH
BEGIN:VTIMEZONE
TZID:Europe/Lisbon
BEGIN:STANDARD
DTSTART:20160105T000000
RDATE:20160327T020000
TZOFFSETFROM:+0100
TZOFFSETTO:+0000
TZNAME:Europe/Lisbon WET
END:STANDARD
BEGIN:STANDARD
DTSTART:20161030T010000
RDATE:20170326T020000
TZOFFSETFROM:+0100
TZOFFSETTO:+0000
TZNAME:Europe/Lisbon WET
END:STANDARD
BEGIN:STANDARD
DTSTART:20171029T010000
RDATE:20180325T020000
TZOFFSETFROM:+0100
TZOFFSETTO:+0000
TZNAME:Europe/Lisbon WET
END:STANDARD
BEGIN:STANDARD
DTSTART:20181028T010000
RDATE:20190331T020000
TZOFFSETFROM:+0100
TZOFFSETTO:+0000
TZNAME:Europe/Lisbon WET
END:STANDARD
BEGIN:STANDARD
DTSTART:20191027T010000
RDATE:20200329T020000
TZOFFSETFROM:+0100
TZOFFSETTO:+0000
TZNAME:Europe/Lisbon WET
END:STANDARD
BEGIN:STANDARD
DTSTART:20201025T010000
RDATE:20210328T020000
TZOFFSETFROM:+0100
TZOFFSETTO:+0000
TZNAME:Europe/Lisbon WET
END:STANDARD
BEGIN:DAYLIGHT
DTSTART:20160327T020000
RDATE:20161030T010000
TZOFFSETFROM:+0000
TZOFFSETTO:+0100
TZNAME:Europe/Lisbon WEST
END:DAYLIGHT
BEGIN:DAYLIGHT
DTSTART:20170326T020000
RDATE:20171029T010000
TZOFFSETFROM:+0000
TZOFFSETTO:+0100
TZNAME:Europe/Lisbon WEST
END:DAYLIGHT
BEGIN:DAYLIGHT
DTSTART:20180325T020000
RDATE:20181028T010000
TZOFFSETFROM:+0000
TZOFFSETTO:+0100
TZNAME:Europe/Lisbon WEST
END:DAYLIGHT
BEGIN:DAYLIGHT
DTSTART:20190331T020000
RDATE:20191027T010000
TZOFFSETFROM:+0000
TZOFFSETTO:+0100
TZNAME:Europe/Lisbon WEST
END:DAYLIGHT
BEGIN:DAYLIGHT
DTSTART:20200329T020000
RDATE:20201025T010000
TZOFFSETFROM:+0000
TZOFFSETTO:+0100
TZNAME:Europe/Lisbon WEST
END:DAYLIGHT
END:VTIMEZONE
BEGIN:VEVENT
UID:fc629ea08d237d5946e385fce0bfbbba
CATEGORIES:Santos
SUMMARY:Simeão, estilita
DESCRIPTION;ENCODING=QUOTED-PRINTABLE:\n\n\n\n\nSimeão, é filho de um pastor e desde cedo qie observou jejuns e o
 utros rituais de autoflagelação numa série de eremitérios e mosteiros no no
 rte da Síria. \n\n\nEra reconhecido pela sua sabedoria, simpatia e pelos co
 nselhos práticos, mas por volta de 423, na procura de maior privacidade par
 a a meditação, decidiu viver no topo de uma coluna no deserto próximo de Al
 epo, onde permaneceu durante 37 anos.\n\n\nApesar da sua procura pelo isola
 mento, foi de tal maneira reconhecido pelo ascetismo que era constantemente
  visitado por peregrinos e por quem buscava sabedoria e conforto.\n\n\nDisp
 onibilizava-se a visitas todas as tardes, no entanto, recusava-se a receber
  mulheres, até mesmo a sua própria mãe.\n\n\n\n\n\nNascimento: ano 390 d.C 
 na Cílica, atual Turquia\n\n\nMorte: ano 459 em Telanissus, Síria\n\n\n\n\n
 \nCuriosidade: é muitas vezes representado no topo duma coluna e com vestes
  de monge\n\n\n\n
DTSTAMP:20260419T194356Z
DTSTART;TZID=Europe/Lisbon;VALUE=DATE:20170105
DTEND;TZID=Europe/Lisbon;VALUE=DATE:20170106
SEQUENCE:0
TRANSP:OPAQUE
END:VEVENT
END:VCALENDAR